BEGIN:VCALENDAR
PRODID:NingEventWidget-v1
VERSION:2.0
METHOD:PUBLISH
BEGIN:VEVENT
UID:1791588:Event:177055
DTSTAMP:20260421T143156Z
SUMMARY:Introduction to Musculoskeletal Ultrasound with Optional Inter
 ventional Cadaver Lab
DESCRIPTION:The hands-on Introduction to Musculoskeletal Ultrasound tr
 aining course is taught by leading experts in the MSK field. This ultr
 asound program provides didactic lectures and extensive hands-on scann
 ing with live models for upper and lower extremity MSK applications. T
 he msk ultrasound hands-on course/program also offers an interventiona
 l workshop using human cadaveric specimens.\n\nFor more information vi
 sit https://community.radrounds.com/events/introduction-to-musculoskel
 etal-ultrasound-with-optional-4
DTSTART:20180219T123000Z
DTEND:20180221T164500Z
CATEGORIES:live, seminar
LOCATION:Gulfcoast Ultrasound Institute
WEBSITE:https://www.gcus.com/
URL:https://www.gcus.com/
CONTACT:7273634500
ORGANIZER:Gulfcoast Ultrasound Institute, Inc
ATTACH;FMTTYPE="image/jpeg":http://storage.ning.com/topology/rest/1.0/
 file/get/1044774420?profile=original
ATTENDEE;ROLE=REQ-PARTICIPANT;PARTSTAT=ACCEPTED;RSVP=TRUE;CN="Casey Gr
 een":https://community.radrounds.com/profile/JamesSalame
END:VEVENT
END:VCALENDAR
