BEGIN:VCALENDAR
PRODID:NingEventWidget-v1
VERSION:2.0
METHOD:PUBLISH
BEGIN:VEVENT
UID:1791588:Event:173015
DTSTAMP:20260421T224946Z
SUMMARY:Introduction to Musculoskeletal Ultrasound with Optional Inter
 ventional Cadaver Lab
DESCRIPTION:The hands-on Introduction to Musculoskeletal Ultrasound tr
 aining course is taught by leading experts in the MSK field. This ultr
 asound program provides didactic lectures and extensive hands-on scann
 ing with live models for upper and lower extremity MSK applications. T
 he msk ultrasound hands-on course/program also offers an interventiona
 l workshop using human cadaveric specimens.\n\nFor more information vi
 sit https://community.radrounds.com/events/introduction-to-musculoskel
 etal-ultrasound-with-optional-3
DTSTART:20170807T040000Z
DTEND:20170810T035900Z
CATEGORIES:continuing, medical, education
LOCATION:Gulfcoast Ultrasound Institute
WEBSITE:http://gcus.com
URL:http://gcus.com
CONTACT:727-363-4500
ORGANIZER;CN="Casey Green":https://community.radrounds.com/profile/Jam
 esSalame
ATTACH;FMTTYPE="image/jpeg":
ATTENDEE;ROLE=REQ-PARTICIPANT;PARTSTAT=ACCEPTED;RSVP=TRUE;CN="Casey Gr
 een":https://community.radrounds.com/profile/JamesSalame
END:VEVENT
END:VCALENDAR
