BEGIN:VCALENDAR
PRODID:NingEventWidget-v1
VERSION:2.0
METHOD:PUBLISH
BEGIN:VEVENT
UID:1791588:Event:164614
DTSTAMP:20260421T145626Z
SUMMARY:Introduction to Musculoskeletal Ultrasound with Optional Inter
 ventional Cadaver Lab
DESCRIPTION:The hands-on Introduction to Musculoskeletal (MSK) Ultraso
 und training course is taught by leading experts in the MSK field. Thi
 s ultrasound program provides didactic lectures and extensive hands-on
  scanning with live models for upper and lower extremity applications.
  The course also includes an interventional workshop using human cadav
 eric specimens.\n\nFor more information visit https://community.radrou
 nds.com/events/introduction-to-musculoskeletal-ultrasound-with-optiona
 l-2
DTSTART:20160815T040000Z
DTEND:20160818T035900Z
CATEGORIES:ultrasound, cme, seminar
LOCATION:Gulfcoast Ultrasound Institute, Inc.
WEBSITE:https://www.gcus.com/courses/about.asp?course=945/Introduction
 -to-Musculoskeletal-Ultrasound-with-Optional-Interventional-Cadaver-La
 b
URL:https://www.gcus.com/courses/about.asp?course=945/Introduction-to-
 Musculoskeletal-Ultrasound-with-Optional-Interventional-Cadaver-Lab
CONTACT:800-619-1900
ORGANIZER;CN="Casey Green":https://community.radrounds.com/profile/Jam
 esSalame
ATTACH;FMTTYPE="image/jpeg":
ATTENDEE;ROLE=REQ-PARTICIPANT;PARTSTAT=ACCEPTED;RSVP=TRUE;CN="Casey Gr
 een":https://community.radrounds.com/profile/JamesSalame
END:VEVENT
END:VCALENDAR
