BEGIN:VCALENDAR
PRODID:NingEventWidget-v1
VERSION:2.0
METHOD:PUBLISH
BEGIN:VEVENT
UID:1791588:Event:196649
DTSTAMP:20260421T062455Z
SUMMARY:Introduction to Musculoskeletal Ultrasound with Interventional
  Cadaver Lab
DESCRIPTION:Introduction to Musculoskeletal Ultrasound Course with Int
 erventional Cadaver Lab provides participants a comprehensive introduc
 tion to musculoskeletal ultrasound on topics based on AIUM practice gu
 idelines. These courses are taught by leading musculoskeletal ultrasou
 nd experts that incorporates comprehensive lectures on upper and lower
  extremity applications, live scanning demonstrations, and interactive
  case presentations featuring a 3:1 participant to faculty hands-on sc
 an ratio with live models, phantoms and human cadaver labs.Performing 
 ultrasound-guided interventions requires a strong knowledge base perta
 ining to scanning techniques, recognition of normal anatomy, pathologi
 c conditions, and needle-guidance techniques. The use of human cadaver
 ic specimens allows the learner to augment the scanning and interventi
 onal skills in order to immediately begin integrating the skills into 
 clinical practice.These courses are held at multiple dates throughout 
 the year, making it the perfect course for both local participants and
  participants traveling to Florida. For the most comprehensive MSK Ult
 rasound education, combine the Introduction to MSK Ultrasound program 
 with either the Advanced/Interventional or Regenerative Medicine MSK p
 rogram. Further enhance your diagnostic and interventional skills for 
 increased confidence and competence to expand patient services. Tuitio
 n discounts are available for the combined programs along with cost-sa
 vings related to travel expenses.\n\nFor more information visit https:
 //community.radrounds.com/events/introduction-to-musculoskeletal-ultra
 sound-with-interventional
DTSTART:20200824T040000Z
DTEND:20200827T035900Z
CATEGORIES:shoulder, anatomy, "&amp", scanning, techniques, live, "dem
 o:", ultrasound, evaluation, of, the
LOCATION:St. Petersburg
WEBSITE:https://www.gcus.com/ultrasound/live-course/introduction-to-mu
 sculoskeletal-ultrasound-with-optional-interventional-cadaver-lab-2020
 -2
URL:https://www.gcus.com/ultrasound/live-course/introduction-to-muscul
 oskeletal-ultrasound-with-optional-interventional-cadaver-lab-2020-2
CONTACT:7273634500
ORGANIZER;CN="Casey Green":https://community.radrounds.com/profile/Jam
 esSalame
ATTACH;FMTTYPE="image/jpeg":
ATTENDEE;ROLE=REQ-PARTICIPANT;PARTSTAT=ACCEPTED;RSVP=TRUE;CN="Casey Gr
 een":https://community.radrounds.com/profile/JamesSalame
END:VEVENT
END:VCALENDAR
