BEGIN:VCALENDAR
PRODID:NingEventWidget-v1
VERSION:2.0
METHOD:PUBLISH
BEGIN:VEVENT
UID:1791588:Event:186328
DTSTAMP:20260420T092510Z
SUMMARY:INTRODUCTION TO MUSCULOSKELETAL ULTRASOUND
DESCRIPTION:Introduction to Musculoskeletal Ultrasound Live Training C
 ourse provides participants a comprehensive introduction to musculoske
 letal ultrasound. These courses are taught by leading musculoskeletal 
 ultrasound experts that incorporates comprehensive lectures and intera
 ctive case presentations featuring a 3:1 faculty to participant hands-
 on scan ratio with live models and phantoms. These courses are specifi
 cally designed for physicians, sonographers and other medical professi
 onals who need musculoskeletal ultrasound training. GCUS offers (3) Th
 ree Day Introduction to Musculoskeletal Ultrasound Courses at our faci
 lity in St. Petersburg, FL. The course is held at multiple dates throu
 ghout the year, making it the perfect course for both local participan
 ts and participants traveling to Florida. GCUS offers the Introduction
  to Musculoskeletal Ultrasound Training Course as a stand alone three 
 (3) day course, or as part of a week long Musculoskeletal Ultrasound T
 raining and CME program. In the week long program, participants will l
 earn ultrasound techniques for the entire musculoskeletal ultrasound s
 pecialty including regenerative medicine. An optional interventional h
 uman cadaver lab can also be added to this course (Highly Recommended)
 .\n\nFor more information visit https://community.radrounds.com/events
 /introduction-to-musculoskeletal-ultrasound-9
DTSTART:20190812T113000Z
DTEND:20190814T154500Z
CATEGORIES:live, cme, seminar
LOCATION:Gulfcoast Ultrasound Institute
WEBSITE:https://www.gcus.com/
URL:https://www.gcus.com/
CONTACT:727-363-4500
ORGANIZER;CN="Casey Green":https://community.radrounds.com/profile/Jam
 esSalame
ATTACH;FMTTYPE="image/jpeg":https://storage.ning.com/topology/rest/1.0
 /file/get/543660142?profile=original
ATTENDEE;ROLE=REQ-PARTICIPANT;PARTSTAT=ACCEPTED;RSVP=TRUE;CN="Casey Gr
 een":https://community.radrounds.com/profile/JamesSalame
END:VEVENT
END:VCALENDAR
