BEGIN:VCALENDAR
PRODID:NingEventWidget-v1
VERSION:2.0
METHOD:PUBLISH
BEGIN:VEVENT
UID:1791588:Event:177052
DTSTAMP:20260421T175642Z
SUMMARY:Introduction to Musculoskeletal Ultrasound
DESCRIPTION:The Introduction to Musculoskeletal Ultrasound Course is t
 aught by leading experts in the field of MSK ultrasound. This msk ultr
 asound hands-on course/program provides comprehensive lectures and ext
 ensive hands-on scanning with live models for upper and lower extremit
 y applications. Learn the musculoskeletal essentials and build confide
 nce in your scanning and interpretation abilities. An optional interve
 ntional workshop is also offered using human cadaveric specimens.\n\nF
 or more information visit https://community.radrounds.com/events/intro
 duction-to-musculoskeletal-ultrasound-8
DTSTART:20180219T123000Z
DTEND:20180221T164500Z
CATEGORIES:live, seminar
LOCATION:Gulfcoast Ultrasound Institute
WEBSITE:https://www.gcus.com/
URL:https://www.gcus.com/
CONTACT:7273634500
ORGANIZER:Gulfcoast Ultrasound Institute, Inc
ATTACH;FMTTYPE="image/jpeg":http://storage.ning.com/topology/rest/1.0/
 file/get/1044773903?profile=original
ATTENDEE;ROLE=REQ-PARTICIPANT;PARTSTAT=ACCEPTED;RSVP=TRUE;CN="Casey Gr
 een":https://community.radrounds.com/profile/JamesSalame
END:VEVENT
END:VCALENDAR
