BEGIN:VCALENDAR
PRODID:NingEventWidget-v1
VERSION:2.0
METHOD:PUBLISH
BEGIN:VEVENT
UID:1791588:Event:185351
DTSTAMP:20260420T153807Z
SUMMARY:INTRODUCTION TO MUSCULOSKELETAL ULTRASOUND
DESCRIPTION:Introduction to Musculoskeletal Ultrasound Live Training C
 ourse provides participants a comprehensive introduction to musculoske
 letal ultrasound. These courses are taught by leading musculoskeletal 
 ultrasound experts that incorporates comprehensive lectures and intera
 ctive case presentations featuring a 3:1 faculty to participant hands-
 on scan ratio with live models and phantoms. These courses are specifi
 cally designed for physicians, sonographers and other medical professi
 onals who need musculoskeletal ultrasound training. GCUS offers three 
 (3) day introduction to musculoskeletal ultrasound courses at our faci
 lity in St. Petersburg, FL. The course is held at multiple dates throu
 ghout the year, making it the perfect course for both local participan
 ts and participants traveling to Florida. GCUS offers introduction to 
 musculoskeletal ultrasound training as a stand alone three (3) day cou
 rse, or as part of a week long musculoskeletal ultrasound training and
  CME program. In the week long program, participants will learn ultras
 ound techniques for the entire musculoskeletal ultrasound specialty in
 cluding regenerative medicine. An optional interventional human cadave
 r lab can also be added to this course (Highly Recommended).\n\nFor mo
 re information visit https://community.radrounds.com/events/introducti
 on-to-musculoskeletal-ultrasound-7
DTSTART:20190218T123000Z
DTEND:20190220T164500Z
CATEGORIES:live, cme, seminar
LOCATION:Gulfcoast Ultrasound Institute
WEBSITE:https://www.gcus.com/
URL:https://www.gcus.com/
CONTACT:727-363-4500
ORGANIZER:Gulfcoast Ultrasound Institute, Inc
ATTACH;FMTTYPE="image/jpeg":https://storage.ning.com/topology/rest/1.0
 /file/get/308227532?profile=original
ATTENDEE;ROLE=REQ-PARTICIPANT;PARTSTAT=ACCEPTED;RSVP=TRUE;CN="Casey Gr
 een":https://community.radrounds.com/profile/JamesSalame
END:VEVENT
END:VCALENDAR
