BEGIN:VCALENDAR
PRODID:NingEventWidget-v1
VERSION:2.0
METHOD:PUBLISH
BEGIN:VEVENT
UID:1791588:Event:170057
DTSTAMP:20260422T020451Z
SUMMARY:Introduction to Musculoskeletal Ultrasound
DESCRIPTION:The Introduction to Musculoskeletal Ultrasound Course is t
 aught by leading experts in the field of MSK ultrasound. This program 
 provides comprehensive lectures and extensive hands-on scanning with l
 ive models for upper and lower extremity applications. Learn the muscu
 loskeletal essentials and build confidence in your scanning and interp
 retation abilities. An optional interventional workshop is also offere
 d using human cadaveric specimens.\nObjectives\n\nIncrease the partici
 pant's knowledge to better perform and/or interpret MSK ultrasound exa
 minations.\nList the indications, benefits, and limitations of MSK ult
 rasound for sports medicine injuries, physical medicine & rehabilitati
 on, and rheumatology applications.\nDemonstrate proper transducer mani
 pulation and system optimization to produce diagnostic images.\nDemons
 trate scanning protocols for performing shoulder, elbow, wrist/hand, k
 nee, ankle/foot, & hip ultrasound examinations.\nIdentify normal anato
 my during musculoskeletal ultrasound imaging.\nIdentify the sonographi
 c appearance of commonly seen pathology of the shoulder, knee, elbow, 
 wrist/hand, ankle, and foot.\nDemonstrate the use of MSK sonography fo
 r diagnosis and ultrasound-guided interventions and describe \"in-plan
 e\" and \"out of plane\" injections/aspiration techniques using inanim
 ate phantoms.\nIncrease confidence to incorporate protocols, technique
 s and interpretation criteria to improve diagnostic/treatment accuracy
 .\n\n \n\nTopics\n\nShoulder Anatomy & Scanning Techniques\nEvaluatio
 n of Shoulder Pathology\nElbow Anatomy & Scanning Techniques\nEvaluati
 on of Elbow Pathology\nUltrasound Guided Injection Techniques\nWrist/H
 and Anatomy & Scan Techniques\nEvaluation of Wrist/Hand Pathology\nNor
 mal Evaluation of the Ankle/Foot & Pathology\nKnee Anatomy, Scanning T
 echniques, & Pathology\nEvaluation of the Hip\n\n\n\nFor more informat
 ion visit https://community.radrounds.com/events/introduction-to-muscu
 loskeletal-ultrasound-6
DTSTART:20170807T220000Z
DTEND:20170809T230000Z
CATEGORIES:cme, conference
LOCATION:Gulfcoast Ultrasound Institute
WEBSITE:https://www.gcus.com/courses/about.asp?course=1053/Introductio
 n-to-Musculoskeletal-Ultrasound
URL:https://www.gcus.com/courses/about.asp?course=1053/Introduction-to
 -Musculoskeletal-Ultrasound
CONTACT:17273634500
ORGANIZER:GCUS
ATTACH;FMTTYPE="image/jpeg":http://storage.ning.com/topology/rest/1.0/
 file/get/1044771786?profile=original
ATTENDEE;ROLE=REQ-PARTICIPANT;PARTSTAT=ACCEPTED;RSVP=TRUE;CN="Casey Gr
 een":https://community.radrounds.com/profile/JamesSalame
END:VEVENT
END:VCALENDAR
