BEGIN:VCALENDAR
PRODID:NingEventWidget-v1
VERSION:2.0
METHOD:PUBLISH
BEGIN:VEVENT
UID:1791588:Event:170022
DTSTAMP:20260420T132930Z
SUMMARY:Introduction to Musculoskeletal Ultrasound
DESCRIPTION:Objectives\n\nIncrease the participant's knowledge to bett
 er perform and/or interpret MSK ultrasound examinations.\nList the ind
 ications, benefits, and limitations of MSK ultrasound for sports medic
 ine injuries, physical medicine & rehabilitation, and rheumatology app
 lications.\nDemonstrate proper transducer manipulation and system opti
 mization to produce diagnostic images.\nDemonstrate scanning protocols
  for performing shoulder, elbow, wrist/hand, knee, ankle/foot, & hip u
 ltrasound examinations.\nIdentify normal anatomy during musculoskeleta
 l ultrasound imaging.\nIdentify the sonographic appearance of commonly
  seen pathology of the shoulder, knee, elbow, wrist/hand, ankle, and f
 oot.\nDemonstrate the use of MSK sonography for diagnosis and ultrasou
 nd-guided interventions and describe \"in-plane\" and \"out of plane\"
  injections/aspiration techniques using inanimate phantoms.\nIncrease 
 confidence to incorporate protocols, techniques and interpretation cri
 teria to improve diagnostic/treatment accuracy.\n\n\n\nTopics\n\nShoul
 der Anatomy & Scanning Techniques\nEvaluation of Shoulder Pathology\nE
 lbow Anatomy & Scanning Techniques\nEvaluation of Elbow Pathology\nUlt
 rasound Guided Injection Techniques\nWrist/Hand Anatomy & Scan Techniq
 ues\nEvaluation of Wrist/Hand Pathology\nNormal Evaluation of the Ankl
 e/Foot & Pathology\nKnee Anatomy, Scanning Techniques, & Pathology\nEv
 aluation of the Hip\n\n\nFor more information visit https://community.
 radrounds.com/events/introduction-to-musculoskeletal-ultrasound-5
DTSTART:20170130T120000Z
DTEND:20170201T100000Z
CATEGORIES:cme, conference
LOCATION:Gulfcoast Ultrasound Institute
WEBSITE:https://www.gcus.com/courses/about.asp?course=1028/Introductio
 n-to-Musculoskeletal-Ultrasound
URL:https://www.gcus.com/courses/about.asp?course=1028/Introduction-to
 -Musculoskeletal-Ultrasound
CONTACT:7273634500
ORGANIZER:GCUS
ATTACH;FMTTYPE="image/jpeg":http://storage.ning.com/topology/rest/1.0/
 file/get/1044771738?profile=original
ATTENDEE;ROLE=REQ-PARTICIPANT;PARTSTAT=ACCEPTED;RSVP=TRUE;CN="Casey Gr
 een":https://community.radrounds.com/profile/JamesSalame
END:VEVENT
END:VCALENDAR
