BEGIN:VCALENDAR
PRODID:NingEventWidget-v1
VERSION:2.0
METHOD:PUBLISH
BEGIN:VEVENT
UID:1791588:Event:164842
DTSTAMP:20260421T100039Z
SUMMARY:Introduction to Musculoskeletal Ultrasound
DESCRIPTION:The hands-on Introduction to Musculoskeletal (MSK) Ultraso
 und training course is taught by leading experts. This ultrasound prog
 ram provides lectures and extensive hands-on scanning with live models
  for upper and lower extremity applications.\n\nFor more information v
 isit https://community.radrounds.com/events/introduction-to-musculoske
 letal-ultrasound-4
DTSTART:20160815T040000Z
DTEND:20160818T035900Z
CATEGORIES:ultrasound, cme, seminar
LOCATION:Gulfcoast Ultrasound Institute, Inc.
WEBSITE:https://www.gcus.com/courses/about.asp?course=967/Introduction
 -to-Musculoskeletal-Ultrasound
URL:https://www.gcus.com/courses/about.asp?course=967/Introduction-to-
 Musculoskeletal-Ultrasound
CONTACT:800-619-1900
ORGANIZER;CN="Casey Green":https://community.radrounds.com/profile/Jam
 esSalame
ATTACH;FMTTYPE="image/jpeg":
ATTENDEE;ROLE=REQ-PARTICIPANT;PARTSTAT=ACCEPTED;RSVP=TRUE;CN="Casey Gr
 een":https://community.radrounds.com/profile/JamesSalame
END:VEVENT
END:VCALENDAR
