BEGIN:VCALENDAR
PRODID:NingEventWidget-v1
VERSION:2.0
METHOD:PUBLISH
BEGIN:VEVENT
UID:1791588:Event:164122
DTSTAMP:20260422T195213Z
SUMMARY:Introduction to Musculoskeletal Ultrasound
DESCRIPTION:The hands-on Introduction to Musculoskeletal (MSK) Ultraso
 und training course is taught by leading experts. This ultrasound prog
 ram provides lectures and extensive hands-on scanning with live models
  for upper and lower extremity applications. An optional interventiona
 l workshop is also offered using human cadaveric specimens.\n\nFor mor
 e information visit https://community.radrounds.com/events/introductio
 n-to-musculoskeletal-ultrasound-3
DTSTART:20160125T050000Z
DTEND:20160128T045900Z
CATEGORIES:ultrasound, cme, seminar
LOCATION:Gulfcoast Ultrasound Institute, Inc.
WEBSITE:https://www.gcus.com/courses/about.asp?course=958/Introduction
 -to-Musculoskeletal-Ultrasound
URL:https://www.gcus.com/courses/about.asp?course=958/Introduction-to-
 Musculoskeletal-Ultrasound
CONTACT:7273634500
ORGANIZER;CN="Casey Green":https://community.radrounds.com/profile/Jam
 esSalame
ATTACH;FMTTYPE="image/jpeg":
ATTENDEE;ROLE=REQ-PARTICIPANT;PARTSTAT=ACCEPTED;RSVP=TRUE;CN="Casey Gr
 een":https://community.radrounds.com/profile/JamesSalame
END:VEVENT
END:VCALENDAR
