BEGIN:VCALENDAR
PRODID:NingEventWidget-v1
VERSION:2.0
METHOD:PUBLISH
BEGIN:VEVENT
UID:1791588:Event:160774
DTSTAMP:20260419T220645Z
SUMMARY:Introduction to Musculoskeletal Ultrasound
DESCRIPTION:This 3 day ultrasound course offers lives hands on trainin
 g as well as an optional human cadaver workshop for injection and aspi
 ration techniques. Topics include: shoulder â€“ knee â€“ ankle â€“ foo
 t â€“ hand â€“ wrist - and hip.\nThe MSK ultrasound training program i
 s taught by leading MSK ultrasound experts and includes lectures, live
  demonstrations, interactive case studies, and extensive hands-on scan
 ning, featuring a 3:1 ratio with live models for a realistic training 
 experience.Â  The MSK ultrasound seminar topics and examination protoc
 ols are developed in accordance with the AIUM MSK Ultrasound practice 
 guidelines.Â  The participant will perform MSK ultrasound protocols as
 sociated with the shoulder, elbow, hand/wrist, knee, hip, ankle and fo
 ot.Â  Special break-out sessions are incorporated for system optimizat
 ion and MSK ultrasound guided- injection techniques.Â  The intensive h
 ands-on program provides the training needed to begin integrating the 
 skills learned into clinical practice.Â  Each participant will receive
  a course notebook including scanning checklists and examination proto
 cols.Â Â (also meets ARDMS CME requirements for non-MSK specialties).Â
  Â This MSK ultrasound training seminar provides the perfect balance o
 f a physicianâ€™s clinical experience and sonographer expertise.Â Â Ex
 perience the Difference in Ultrasound Education !\n\nFor more informat
 ion visit https://community.radrounds.com/events/introduction-to-muscu
 loskeletal-ultrasound-2
DTSTART:20150810T040000Z
DTEND:20150812T035900Z
CATEGORIES:ultrasound, cme, seminar
LOCATION:Gulfcoast Ultrasound Institute, Inc.
WEBSITE:https://www.gcus.com/courses/about.asp?course=811/Intro-to-MSK
 -Ultrasound
URL:https://www.gcus.com/courses/about.asp?course=811/Intro-to-MSK-Ult
 rasound
CONTACT:800.619.1900
ORGANIZER;CN="Casey Green":https://community.radrounds.com/profile/Jam
 esSalame
ATTACH;FMTTYPE="image/jpeg":
ATTENDEE;ROLE=REQ-PARTICIPANT;PARTSTAT=ACCEPTED;RSVP=TRUE;CN="Casey Gr
 een":https://community.radrounds.com/profile/JamesSalame
END:VEVENT
END:VCALENDAR
