BEGIN:VCALENDAR
PRODID:NingEventWidget-v1
VERSION:2.0
METHOD:PUBLISH
BEGIN:VEVENT
UID:1791588:Event:196492
DTSTAMP:20260421T044900Z
SUMMARY:Introduction to Musculoskeletal Ultrasound
DESCRIPTION:Introduction to Musculoskeletal Ultrasound Live Training C
 ourse provides participants a comprehensive introduction to musculoske
 letal ultrasound. These courses are taught by leading musculoskeletal 
 ultrasound experts that incorporates comprehensive lectures on upper a
 nd lower extremity applications for diagnostic and ultrasound guided i
 njection/aspiration techniques. Live demonstrations, and interactive c
 ase presentations are also included. Extensive hands-on scanning is pr
 ovided for upper and lower extremity applications featuring a 3:1 part
 icipant to faculty hands-on scan ratio with live models and inanimate 
 phantoms. An optional interventional human cadaver lab can also be add
 ed to this course and is highly recommended for those interested in pe
 rforming ultrasound-guided procedures/interventions such as joint aspi
 rations and injections.The Introduction to Musculoskeletal Ultrasound 
 course can also be combined with the 2-day Advanced/interventional or 
 Regenerative Medicine MSK program. The combined program offers a disco
 unted tuition and enables the participant to further expand skills and
  knowledge while at the same time consolidate travel expenses.\n\nFor 
 more information visit https://community.radrounds.com/events/introduc
 tion-to-musculoskeletal-ultrasound-10
DTSTART:20200824T040000Z
DTEND:20200827T035900Z
CATEGORIES:shoulder, anatomy, "&amp", scanning, techniques
LOCATION:St. Petersburg
WEBSITE:https://www.gcus.com/ultrasound/live-course/introduction-to-mu
 sculoskeletal-ultrasound-2020-2
URL:https://www.gcus.com/ultrasound/live-course/introduction-to-muscul
 oskeletal-ultrasound-2020-2
CONTACT:7273634500
ORGANIZER;CN="Casey Green":https://community.radrounds.com/profile/Jam
 esSalame
ATTACH;FMTTYPE="image/jpeg":
ATTENDEE;ROLE=REQ-PARTICIPANT;PARTSTAT=ACCEPTED;RSVP=TRUE;CN="Casey Gr
 een":https://community.radrounds.com/profile/JamesSalame
END:VEVENT
END:VCALENDAR
