BEGIN:VCALENDAR
PRODID:NingEventWidget-v1
VERSION:2.0
METHOD:PUBLISH
BEGIN:VEVENT
UID:1791588:Event:164919
DTSTAMP:20260420T120010Z
SUMMARY:Introduction to Emergency Medicine Ultrasound
DESCRIPTION:Introduction to Emergency Medicine Ultrasound Course provi
 des participants with a strong foundation to perform and/or interpret 
 the core ultrasound applications in an emergency setting as outlined i
 n the ACEP ultrasound practice guidelines. This unique ultrasound trai
 ning course incorporates comprehensive lectures, interactive case pres
 entations, and extensive hands-on scanning, featuring a 3:1 ratio with
  live models and inanimate phantoms.\n\nFor more information visit htt
 ps://community.radrounds.com/events/introduction-to-emergency-medicine
 -ultrasound-9
DTSTART:20160912T040000Z
DTEND:20160915T035900Z
CATEGORIES:ultrasound, cme, seminar
LOCATION:Gulfcoast Ultrasound Institute, Inc.
WEBSITE:https://www.gcus.com/courses/about.asp?course=929/Intro-to-Eme
 rgency-Medicine-Ultrasound
URL:https://www.gcus.com/courses/about.asp?course=929/Intro-to-Emergen
 cy-Medicine-Ultrasound
CONTACT:800-619-1900
ORGANIZER;CN="Casey Green":https://community.radrounds.com/profile/Jam
 esSalame
ATTACH;FMTTYPE="image/jpeg":
ATTENDEE;ROLE=REQ-PARTICIPANT;PARTSTAT=ACCEPTED;RSVP=TRUE;CN="Casey Gr
 een":https://community.radrounds.com/profile/JamesSalame
END:VEVENT
END:VCALENDAR
