BEGIN:VCALENDAR
PRODID:NingEventWidget-v1
VERSION:2.0
METHOD:PUBLISH
BEGIN:VEVENT
UID:1791588:Event:160679
DTSTAMP:20260420T221653Z
SUMMARY:Introduction to Emergency Medicine Ultrasound
DESCRIPTION:The 3-day Hands-on Introduction to emergency ultrasound pr
 ogram provides participants with a strong foundation to perform the co
 re ultrasound applications as outlined in the ACEP ultrasound practice
  guidelines. This unique ultrasound training course incorporates compr
 ehensive lectures, interactive case presentations using an audience re
 sponse system, and extensive hands-on scanning, featuring a 3:1 ratio 
 with live models and inanimate phantoms. Special break-out sessions ar
 e conducted for a review of ultrasound system knobology and optimizati
 on to improve the learners’ knowledge and competence to effectively 
 adjust the system controls. This emergency ultrasound program also pro
 vides a log of 40+ supervised examinations to apply towards credential
 ing and/or certification requirements.\n\nFor more information visit h
 ttps://community.radrounds.com/events/introduction-to-emergency-medici
 ne-ultrasound-6
DTSTART:20150914T040000Z
DTEND:20150917T035900Z
CATEGORIES:ultrasound, cme, seminar
LOCATION:Gulfcoast Ultrasound Institute, Inc.
WEBSITE:https://www.gcus.com/courses/about.asp?course=850/Intro-to-Eme
 rgency-Medicine-Ultrasound
URL:https://www.gcus.com/courses/about.asp?course=850/Intro-to-Emergen
 cy-Medicine-Ultrasound
CONTACT:800.619.1900
ORGANIZER;CN="Casey Green":https://community.radrounds.com/profile/Jam
 esSalame
ATTACH;FMTTYPE="image/jpeg":
ATTENDEE;ROLE=REQ-PARTICIPANT;PARTSTAT=ACCEPTED;RSVP=TRUE;CN="Casey Gr
 een":https://community.radrounds.com/profile/JamesSalame
END:VEVENT
END:VCALENDAR
