BEGIN:VCALENDAR
PRODID:NingEventWidget-v1
VERSION:2.0
METHOD:PUBLISH
BEGIN:VEVENT
UID:1791588:Event:186443
DTSTAMP:20260424T075806Z
SUMMARY:INTRODUCTION TO EMERGENCY MEDICINE ULTRASOUND
DESCRIPTION:Introduction to Emergency Medicine Ultrasound Live Trainin
 g Course provides participants a strong foundation to perform and/or i
 nterpret the core ultrasound applications in an emergency setting as o
 utlined in the ACEP ultrasound practice guidelines. These courses are 
 taught by leading emergency medicine ultrasound experts and are specif
 ically designed for physicians, sonographers and other medical profess
 ionals who need emergency medicine ultrasound training. This course in
 corporates comprehensive lectures and interactive case presentations f
 eaturing a 3:1 faculty to participant hands-on scan ratio with live mo
 dels and phantoms to maximize the participant's diagnostic and scannin
 g skills. GCUS offers (3) Three Day emergency medicine ultrasound cour
 ses or as part of a week long emergency medicine & critical care ultra
 sound training and CME program at our facility in St. Petersburg, FL. 
 In the week long program, participants will learn ultrasound technique
 s for the entire emergency medicine & critical care specialty.\n\nFor 
 more information visit https://community.radrounds.com/events/introduc
 tion-to-emergency-medicine-ultrasound-16
DTSTART:20190916T113000Z
DTEND:20190918T210000Z
CATEGORIES:live, cme, seminar
LOCATION:Gulfcoast Ultrasound Institute
WEBSITE:https://www.gcus.com/
URL:https://www.gcus.com/
CONTACT:727-363-4500
ORGANIZER:Gulfcoast Ultrasound Institute, Inc
ATTACH;FMTTYPE="image/jpeg":https://storage.ning.com/topology/rest/1.0
 /file/get/543971703?profile=original
ATTENDEE;ROLE=REQ-PARTICIPANT;PARTSTAT=ACCEPTED;RSVP=TRUE;CN="Casey Gr
 een":https://community.radrounds.com/profile/JamesSalame
END:VEVENT
END:VCALENDAR
