BEGIN:VCALENDAR
PRODID:NingEventWidget-v1
VERSION:2.0
METHOD:PUBLISH
BEGIN:VEVENT
UID:1791588:Event:178134
DTSTAMP:20260423T024940Z
SUMMARY:Introduction to Emergency Medicine Ultrasound
DESCRIPTION:Introduction to Emergency Medicine Ultrasound Course provi
 des participants with a strong foundation to perform and/or interpret 
 the core ultrasound applications in an emergency setting as outlined i
 n the ACEP ultrasound practice guidelines. This unique emergency ultra
 sound hands-on course/program incorporates comprehensive lectures, int
 eractive case presentations, and extensive hands-on scanning, featurin
 g a 3:1 ratio with live models and inanimate phantoms.\nTopics\n\nImag
 ing Fundamentals\nOB-GYN Anatomy/Exam\nEctopic Pregnancy\nOB Cases & A
 bortion\nFundamentals of Needle Guidance\nUltrasound-Guided Vascular A
 ccess\nAbdominal Scanning Fundamentals\nFAST & E-FAST Exam\nFocused 2D
  Cardiac Exam (FATE)\nBiliary & Renal Colic\nAbdominal Aortic Aneurysm
 \nEvaluation of DVT\nEvaluation of Cardiac Arrest and Shock & Hypotens
 ion\nUltrasound Guided Procedures: Pericardiocentesis, Paracentesis, H
 emothorax, Lumbar Puncture, ET\nTraining and Credentialing\n\n \nObje
 ctives\n\nIncrease the participant’s knowledge to better perform and
 /or interpret Emergency ultrasound examinations.\nState the basic fund
 amentals of ultrasound physics and demonstrate appropriate optimizatio
 n for system controls.\nPerform ultrasound evaluation of the trauma pa
 tient (E-FAST exam) and pneumothorax.\nDemonstrate scan protocols for 
 focused evaluation of the abdomen, aorta, female pelvis, and adult hea
 rt.\nState an algorithm for uses of bedside ultrasound during cardiac 
 arrest, shock, and hypotension\nDemonstrate image orientation, transdu
 cer preparation, and scan protocols for performing use of ultrasound g
 uidance for vascular access, pericardiocentesis, paracentesis, hemotho
 rax, lumbar puncture, and ET placement.\nDemonstrate protocol for focu
 sed evaluation of DVT.\nDifferentiate normal/abnormal image characteri
 stics of the abdomen, female pelvis, first trimester OB, and ectopic p
 regnancy.\nIncrease competence to incorporate protocols, scan techniqu
 es, and interpretation criteria into clinical practice.\n\n\nFor more 
 information visit https://community.radrounds.com/events/introduction-
 to-emergency-medicine-ultrasound-15
DTSTART:20180910T113000Z
DTEND:20180912T173000Z
CATEGORIES:live, cme, seminar
LOCATION:Gulfcoast Ultrasound Institute
WEBSITE:https://www.gcus.com/
URL:https://www.gcus.com/
CONTACT:7273634500
ORGANIZER:Gulfcoast Ultrasound Institute, Inc
ATTACH;FMTTYPE="image/jpeg":http://storage.ning.com/topology/rest/1.0/
 file/get/1044774012?profile=original
ATTENDEE;ROLE=REQ-PARTICIPANT;PARTSTAT=ACCEPTED;RSVP=TRUE;CN="Casey Gr
 een":https://community.radrounds.com/profile/JamesSalame
END:VEVENT
END:VCALENDAR
