BEGIN:VCALENDAR
PRODID:NingEventWidget-v1
VERSION:2.0
METHOD:PUBLISH
BEGIN:VEVENT
UID:1791588:Event:184261
DTSTAMP:20260421T065533Z
SUMMARY:Introduction to Emergency Medicine Ultrasound
DESCRIPTION:Introduction to Emergency Medicine Ultrasound Training Cou
 rse provides participants a strong foundation to perform and/or interp
 ret the core ultrasound applications in an emergency setting as outlin
 ed in the ACEP ultrasound practice guidelines. These courses are taugh
 t by leading emergency medicine ultrasound experts and are specificall
 y designed for physicians, sonographers and other medical professional
 s who need emergency medicine ultrasound training. This course incorpo
 rates comprehensive lectures and interactive case presentations featur
 ing a 3:1 faculty to participant hands-on scan ratio with live models 
 and phantoms to maximize the participant's diagnostic and scanning ski
 lls. GCUS offers three (3) day emergency medicine ultrasound courses o
 r as part of a week long emergency medicine & critical care ultrasound
  training and CME program at our facility in St. Petersburg, FL. In th
 e week long program, participants will learn ultrasound techniques for
  the entire emergency medicine & critical care specialty.\n\nFor more 
 information visit https://community.radrounds.com/events/introduction-
 to-emergency-medicine-ultrasound-13
DTSTART:20190121T123000Z
DTEND:20190123T220000Z
CATEGORIES:live, cme, seminar
LOCATION:Gulfcoast Ultrasound Institute
WEBSITE:https://www.gcus.com/
URL:https://www.gcus.com/
CONTACT:7273634500
ORGANIZER:Gulfcoast Ultrasound Institute, Inc
ATTACH;FMTTYPE="image/jpeg":http://storage.ning.com/topology/rest/1.0/
 file/get/1044775749?profile=original
ATTENDEE;ROLE=REQ-PARTICIPANT;PARTSTAT=ACCEPTED;RSVP=TRUE;CN="Abeton T
 eeman":https://community.radrounds.com/profile/AbetonTeeman
ATTENDEE;ROLE=REQ-PARTICIPANT;PARTSTAT=ACCEPTED;RSVP=TRUE;CN="Casey Gr
 een":https://community.radrounds.com/profile/JamesSalame
END:VEVENT
END:VCALENDAR
