BEGIN:VCALENDAR
PRODID:NingEventWidget-v1
VERSION:2.0
METHOD:PUBLISH
BEGIN:VEVENT
UID:1791588:Event:170029
DTSTAMP:20260419T162101Z
SUMMARY:Introduction to Emergency Medicine Ultrasound
DESCRIPTION:Introduction to Emergency Medicine Ultrasound Course provi
 des participants with a strong foundation to perform and/or interpret 
 the core ultrasound applications in an emergency setting as outlined i
 n the ACEP ultrasound practice guidelines. This unique ultrasound trai
 ning course incorporates comprehensive lectures, interactive case pres
 entations, and extensive hands-on scanning, featuring a 3:1 ratio with
  live models and inanimate phantoms.\nObjectives\n\nIncrease the parti
 cipant’s knowledge to better perform and/or interpret Emergency ultr
 asound examinations.\nState the basic fundamentals of ultrasound physi
 cs and demonstrate appropriate optimization for system controls.\nPerf
 orm ultrasound evaluation of the trauma patient (E-FAST exam) and pneu
 mothorax.\nDemonstrate scan protocols for focused evaluation of the ab
 domen, aorta, female pelvis, and adult heart.\nState an algorithm for 
 uses of bedside ultrasound during cardiac arrest, shock, and hypotensi
 on\nDemonstrate image orientation, transducer preparation, and scan pr
 otocols for performing use of ultrasound guidance for vascular access,
  pericardiocentesis, paracentesis, hemothorax, lumbar puncture, and ET
  placement.\nDemonstrate protocol for focused evaluation of DVT.\nDiff
 erentiate normal/abnormal image characteristics of the abdomen, female
  pelvis, first trimester OB, and ectopic pregnancy.\nIncrease competen
 ce to incorporate protocols, scan techniques, and interpretation crite
 ria into clinical practice.\n\n \n\nTopics\n\nImaging Fundamentals\nO
 B-GYN Anatomy/Exam\nEctopic Pregnancy\nOB Cases & Abortion\nFundamenta
 ls of Needle Guidance\nUltrasound-Guided Vascular Access\nAbdominal Sc
 anning Fundamentals\nFAST & E-FAST Exam\nFocused 2D Cardiac Exam (FATE
 )\nBiliary & Renal Colic\nAbdominal Aortic Aneurysm\nEvaluation of Car
 diac Arrest, DVT, Shock & Hypotension\nUltrasound Guided Procedures: P
 ericardiocentesis, Paracentesis, Hemothorax, Lumbar Puncture\n\n\n\nFo
 r more information visit https://community.radrounds.com/events/introd
 uction-to-emergency-medicine-ultrasound-10
DTSTART:20170227T120000Z
DTEND:20170301T220000Z
CATEGORIES:cme, conference
LOCATION:Gulfcoast Ultrasound Institute
WEBSITE:https://www.gcus.com/courses/about.asp?course=1062/Introductio
 n-to-Emergency-Medicine-Ultrasound
URL:https://www.gcus.com/courses/about.asp?course=1062/Introduction-to
 -Emergency-Medicine-Ultrasound
CONTACT:17273634500
ORGANIZER:GCUS
ATTACH;FMTTYPE="image/jpeg":http://storage.ning.com/topology/rest/1.0/
 file/get/1044771806?profile=original
ATTENDEE;ROLE=REQ-PARTICIPANT;PARTSTAT=ACCEPTED;RSVP=TRUE;CN="Casey Gr
 een":https://community.radrounds.com/profile/JamesSalame
END:VEVENT
END:VCALENDAR
