BEGIN:VCALENDAR
PRODID:NingEventWidget-v1
VERSION:2.0
METHOD:PUBLISH
BEGIN:VEVENT
UID:1791588:Event:185347
DTSTAMP:20260421T100039Z
SUMMARY:Introduction to Critical Care Ultrasound
DESCRIPTION:Introduction to Critical Care Ultrasound Live Training Cou
 rse provides participants a strong foundation to perform the core crit
 ical care ultrasound applications as outlined in the WINFOCUS and ACEP
  practice guidelines. These courses are taught by leading critical car
 e ultrasound experts that incorporates comprehensive lectures and inte
 ractive case presentations featuring a 3:1 faculty to participant hand
 s-on scan ratio with live models and phantoms, and is specifically des
 igned for physicians, sonographers and other medical professionals who
  need critical care ultrasound training. GCUS offers two (2) day criti
 cal care ultrasound courses at our facility in St. Petersburg, FL. The
  course is held at multiple dates throughout the year, making it the p
 erfect course for both local participants and participants traveling t
 o Florida. GCUS offers critical care ultrasound training as a stand al
 one two (2) day course, or as part of a week long emergency medicine &
  critical care ultrasound training and CME program. In the week long p
 rogram, participants will learn ultrasound tips, tricks, and technique
 s for the entire emergency medicine & critical care specialty.\n\nFor 
 more information visit https://community.radrounds.com/events/introduc
 tion-to-critical-care-ultrasound-8
DTSTART:20190122T123000Z
DTEND:20190123T220000Z
CATEGORIES:live, cme, seminar
LOCATION:Gulfcoast Ultrasound Institute
WEBSITE:https://www.gcus.com/
URL:https://www.gcus.com/
CONTACT:727-363-4500
ORGANIZER:Gulfcoast Ultrasound Institute, Inc
ATTACH;FMTTYPE="image/jpeg":https://storage.ning.com/topology/rest/1.0
 /file/get/308225406?profile=original
ATTENDEE;ROLE=REQ-PARTICIPANT;PARTSTAT=ACCEPTED;RSVP=TRUE;CN="Casey Gr
 een":https://community.radrounds.com/profile/JamesSalame
END:VEVENT
END:VCALENDAR
