BEGIN:VCALENDAR
PRODID:NingEventWidget-v1
VERSION:2.0
METHOD:PUBLISH
BEGIN:VEVENT
UID:1791588:Event:170223
DTSTAMP:20260424T063218Z
SUMMARY:Introduction to Critical Care Ultrasound
DESCRIPTION:Introduction to Critical Care Ultrasound is designed to pr
 ovide a strong foundation to perform the core emergency ultrasound app
 lications as outlined in the WINFOCUS and ACEP practice guidelines. Th
 is ultrasound training course incorporates comprehensive lectures, int
 eractive case presentations, and extensive hands-on scanning, featurin
 g a 3:1 ratio with live models and inanimate phantoms. A pre-course we
 binar is included on Imaging Fundamentals.\nObjectives\n\nIncrease th
 e participant’s knowledge to better perform and/or interpret Critica
 l Care ultrasound examinations.\nState the basic fundamentals of ultra
 sound physics and demonstrate appropriate optimization for system cont
 rols.\nPerform ultrasound evaluation of the trauma patient (E-FAST exa
 m).\nDemonstrate image orientation, transducer placement, and scan pro
 tocols for performing ultrasound evaluation of pneumothorax.\nDemonstr
 ate scan protocols for focused evaluation of the abdomen, aorta, and a
 dult heart, and lower extremity DVT.\nDemonstrate image orientation, t
 ransducer preparation, and scan protocols for performing ultrasound gu
 ided vascular access.\nDifferentiate normal/abnormal image characteris
 tics of the abdomen and adult heart.\nState an algorithm for assessin
 g causes of shock and hypotension using bedside ultrasound.\nDemonstra
 te protocols for performing thoracentesis, pericardiocentesis, paracen
 tesis, and lumbar puncture.\nIncrease competence to incorporate protoc
 ols, scan techniques, and interpretation criteria into clinical practi
 ce.\n\n \n\nTopics\n\nUltrasound-Guided Vascular Access\nAbdominal Sc
 anning Fundamentals\nFAST & EFAST Exam\nFocused 2D Cardiac Exam (FATE)
 \nBiliary & Renal Colic\nAbdominal Aortic Aneurysm\nEvaluation of DVT\
 nEvaluation of Cardiac Arrest, Shock & Hypotension\nUltrasound Guided 
 Procedures: Pericardiocentesis, Paracentesis, Hemothorax, Lumbar Punct
 ure\nInteractive Case Studies\n\n\n\nFor more information visit https:
 //community.radrounds.com/events/introduction-to-critical-care-ultraso
 und-6
DTSTART:20170912T110000Z
DTEND:20170913T210000Z
CATEGORIES:cme, conference
LOCATION:Gulfcoast Ultrasound Institute
WEBSITE:https://www.gcus.com/courses/about.asp?course=1065/Introductio
 n-to-Critical-Care-Ultrasound
URL:https://www.gcus.com/courses/about.asp?course=1065/Introduction-to
 -Critical-Care-Ultrasound
CONTACT:17273634500
ORGANIZER:GCUS
ATTACH;FMTTYPE="image/jpeg":http://storage.ning.com/topology/rest/1.0/
 file/get/1044771827?profile=original
ATTENDEE;ROLE=REQ-PARTICIPANT;PARTSTAT=ACCEPTED;RSVP=TRUE;CN="Casey Gr
 een":https://community.radrounds.com/profile/JamesSalame
END:VEVENT
END:VCALENDAR
