BEGIN:VCALENDAR
PRODID:NingEventWidget-v1
VERSION:2.0
METHOD:PUBLISH
BEGIN:VEVENT
UID:1791588:Event:169962
DTSTAMP:20260419T131308Z
SUMMARY:Introduction to Critical Care Ultrasound
DESCRIPTION:Introduction to Critical Care Ultrasound is designed to pr
 ovide a strong foundation to perform the core emergency ultrasound app
 lications as outlined in the WINFOCUS and ACEP practice guidelines. Th
 is ultrasound training course incorporates comprehensive lectures, int
 eractive case presentations, and extensive hands-on scanning, featurin
 g a 3:1 ratio with live models and inanimate phantoms. A pre-course we
 binar is included on Imagaing Fundamentals.\n\nObjectives\n\nIncrease 
 the participant’s knowledge to better perform and/or interpret Criti
 cal Care ultrasound examinations.\nState the basic fundamentals of ult
 rasound physics and demonstrate appropriate optimization for system co
 ntrols.\nPerform ultrasound evaluation of the trauma patient (E-FAST e
 xam).\nDemonstrate image orientation, transducer placement, and scan p
 rotocols for performing ultrasound evaluation of pneumothorax.\nDemons
 trate scan protocols for focused evaluation of the abdomen, aorta, and
  adult heart, and lower extremity DVT.\nDemonstrate image orientation,
  transducer preparation, and scan protocols for performing ultrasound 
 guided vascular access.\nDifferentiate normal/abnormal image character
 istics of the abdomen and adult heart.\nState an algorithm for assess
 ing causes of shock and hypotension using bedside ultrasound.\nDemonst
 rate protocols for performing thoracentesis, pericardiocentesis, parac
 entesis, and lumbar puncture.\nIncrease competence to incorporate prot
 ocols, scan techniques, and interpretation criteria into clinical prac
 tice.\n\n \n\nTopics\n\nUltrasound-Guided Vascular Access\nAbdominal 
 Scanning Fundamentals\nFAST & EFAST Exam\nFocused 2D Cardiac Exam (FAT
 E)\nBiliary & Renal Colic\nAbdominal Aortic Aneurysm\nEvaluation of DV
 T\nEvaluation of Cardiac Arrest, Shock & Hypotension\nUltrasound Guide
 d Procedures: Pericardiocentesis, Paracentesis, Hemothorax, Lumbar Pun
 cture\nInteractive Case Studies\n\n\nFor more information visit https:
 //community.radrounds.com/events/introduction-to-critical-care-ultraso
 und-5
DTSTART:20170228T230000Z
DTEND:20170302T000000Z
CATEGORIES:cme, conference
LOCATION:Gulfcoast Ultrasound Institute
WEBSITE:https://www.gcus.com/courses/about.asp?course=1064/Introductio
 n-to-Critical-Care-Ultrasound
URL:https://www.gcus.com/courses/about.asp?course=1064/Introduction-to
 -Critical-Care-Ultrasound
CONTACT:17273634500
ORGANIZER:GCUS
ATTACH;FMTTYPE="image/jpeg":http://storage.ning.com/topology/rest/1.0/
 file/get/1044767784?profile=original
ATTENDEE;ROLE=REQ-PARTICIPANT;PARTSTAT=ACCEPTED;RSVP=TRUE;CN="Casey Gr
 een":https://community.radrounds.com/profile/JamesSalame
END:VEVENT
END:VCALENDAR
