BEGIN:VCALENDAR
PRODID:NingEventWidget-v1
VERSION:2.0
METHOD:PUBLISH
BEGIN:VEVENT
UID:1791588:Event:164844
DTSTAMP:20260420T071056Z
SUMMARY:Introduction to Critical Care Ultrasound
DESCRIPTION:Introduction to Critical Care Ultrasound is designed to pr
 ovide a strong foundation to perform the core emergency ultrasound app
 lications as outlined in the WINFOCUS and ACEP practice guidelines. Th
 is ultrasound training course incorporates comprehensive lectures, int
 eractive case presentations, and extensive hands-on scanning, featurin
 g a 3:1 ratio with live models and inanimate phantoms.\n\nFor more inf
 ormation visit https://community.radrounds.com/events/introduction-to-
 critical-care-ultrasound-4
DTSTART:20160913T040000Z
DTEND:20160915T035900Z
CATEGORIES:ultrasound, cme, seminar
LOCATION:Gulfcoast Ultrasound Institute, Inc.
WEBSITE:https://www.gcus.com/courses/about.asp?course=948/Introduction
 -to-Critical-Care-Ultrasound
URL:https://www.gcus.com/courses/about.asp?course=948/Introduction-to-
 Critical-Care-Ultrasound
CONTACT:800-619-1900
ORGANIZER;CN="Casey Green":https://community.radrounds.com/profile/Jam
 esSalame
ATTACH;FMTTYPE="image/jpeg":
ATTENDEE;ROLE=REQ-PARTICIPANT;PARTSTAT=ACCEPTED;RSVP=TRUE;CN="Casey Gr
 een":https://community.radrounds.com/profile/JamesSalame
END:VEVENT
END:VCALENDAR
