BEGIN:VCALENDAR
PRODID:NingEventWidget-v1
VERSION:2.0
METHOD:PUBLISH
BEGIN:VEVENT
UID:1791588:Event:160681
DTSTAMP:20260420T202840Z
SUMMARY:Introduction to Critical Care Ultrasound
DESCRIPTION:This two-day Hands-on Introduction to Critical Care Ultras
 ound training course is designed to provide a strong foundation to per
 form the core ultrasound applications as outlined in the WINFOCUS and 
 ACEP ultrasound practice guidelines.  The Critical Care Ultrasound pr
 ogram faculty includes leading critical care and emergency ultrasound 
 expert physicians and sonographers to provide the perfect balance of a
  physician’s clinical experience and sonographer’s expertise. The
  Critical Care ultrasound training incorporates lectures, interactive 
 case presentations using an audience response system, and extensive ha
 nds-on scanning, featuring a 3:1 ratio with live models and inanimate 
 phantoms.  Topics include Ultrasound-guided procedures, Focused cardi
 ac, Focused abdominal, Evaluation of DVT, and Evaluation of cardiac ar
 rest, shock and hypotension.  Optional lunch sessions include abscess
  and joint aspiration, and Training/Credentialing.  This Critical Car
 e ultrasound program also provides a log of 30+ supervised examination
 s to apply towards credentialing and/or certification requirements\n\n
 For more information visit https://community.radrounds.com/events/intr
 oduction-to-critical-care-ultrasound-2
DTSTART:20150915T040000Z
DTEND:20150917T035900Z
CATEGORIES:ultrasound, cme, seminar
LOCATION:Gulfcoast Ultrasound Institute, Inc.
WEBSITE:https://www.gcus.com/courses/about.asp?course=851/Introduction
 -to-Critical-Care-Ultrasound
URL:https://www.gcus.com/courses/about.asp?course=851/Introduction-to-
 Critical-Care-Ultrasound
CONTACT:800.619.1900
ORGANIZER;CN="Casey Green":https://community.radrounds.com/profile/Jam
 esSalame
ATTACH;FMTTYPE="image/jpeg":
ATTENDEE;ROLE=REQ-PARTICIPANT;PARTSTAT=ACCEPTED;RSVP=TRUE;CN="Casey Gr
 een":https://community.radrounds.com/profile/JamesSalame
END:VEVENT
END:VCALENDAR
