BEGIN:VCALENDAR
PRODID:NingEventWidget-v1
VERSION:2.0
METHOD:PUBLISH
BEGIN:VEVENT
UID:1791588:Event:178030
DTSTAMP:20260422T200810Z
SUMMARY:Introduction to Critical Care Ultrasound
DESCRIPTION:Introduction to Critical Care Ultrasound is designed to pr
 ovide a strong foundation to perform the core critical care ultrasound
  applications as outlined in the WINFOCUS and ACEP practice guidelines
 . This critical-care ultrasound hands-on course/program incorporates c
 omprehensive lectures, interactive case presentations, and extensive h
 ands-on scanning, featuring a 3:1 ratio with live models and inanimate
  phantoms. This course includes a pre-course webinar entitled Ultrasou
 nd Imaging Fundamentals.\nTopics\n\nUltrasound-Guided Vascular Access\
 nAbdominal Scanning Fundamentals\nFAST & EFAST Exam\nFocused 2D Cardia
 c Exam (FATE)\nBiliary & Renal Colic\nAbdominal Aortic Aneurysm\nEvalu
 ation of DVT\nEvaluation of Cardiac Arrest, Shock & Hypotension\nUltra
 sound Guided Procedures: Pericardiocentesis, Paracentesis, Hemothorax,
  Lumbar Puncture, ET\nInteractive Case Studies\nTraining and Credentia
 ling\n\n \nObjectives\n\nIncrease the participant’s knowledge to be
 tter perform and/or interpret Critical Care ultrasound examinations.\n
 State the basic fundamentals of ultrasound physics and demonstrate app
 ropriate optimization for system controls.\nPerform ultrasound evaluat
 ion of the trauma patient (E-FAST exam).\nDemonstrate image orientatio
 n, transducer placement, and scan protocols for performing ultrasound 
 evaluation of pneumothorax.\nDemonstrate scan protocols for focused ev
 aluation of the abdomen, aorta, and adult heart, and lower extremity D
 VT.\nDemonstrate image orientation, transducer preparation, and scan p
 rotocols for performing ultrasound guided vascular access.\nDifferenti
 ate normal/abnormal image characteristics of the abdomen and adult hea
 rt.\nState an algorithm for assessing causes of shock and hypotension
  using bedside ultrasound.\nDemonstrate protocols for performing thora
 centesis, pericardiocentesis, paracentesis, and lumbar puncture.\nIncr
 ease competence to incorporate protocols, scan techniques, and interpr
 etation criteria into clinical practice.\n\n\nFor more information vis
 it https://community.radrounds.com/events/introduction-to-critical-car
 e-ultrasound-12
DTSTART:20180911T113000Z
DTEND:20180912T210000Z
CATEGORIES:live, cme, seminar
LOCATION:Gulfcoast Ultrasound Institute
WEBSITE:https://www.gcus.com/
URL:https://www.gcus.com/
CONTACT:7273634500
ORGANIZER:Gulfcoast Ultrasound Institute, Inc
ATTACH;FMTTYPE="image/jpeg":http://storage.ning.com/topology/rest/1.0/
 file/get/1044771837?profile=original
ATTENDEE;ROLE=REQ-PARTICIPANT;PARTSTAT=ACCEPTED;RSVP=TRUE;CN="Casey Gr
 een":https://community.radrounds.com/profile/JamesSalame
END:VEVENT
END:VCALENDAR
