BEGIN:VCALENDAR
PRODID:NingEventWidget-v1
VERSION:2.0
METHOD:PUBLISH
BEGIN:VEVENT
UID:1791588:Event:160826
DTSTAMP:20260421T105137Z
SUMMARY:Introduction to Carotid Duplex/Color Flow Imaging - Hands-On O
 nly Workshop
DESCRIPTION:The Introduction to Carotid Duplex/Color Flow Imaging hand
 s-on course is a live, 3-day program taught by leading vascular ultras
 ound experts.  The carotid duplex/color flow training course includes
  extensive hands-on scanning featuring a 3:1 ratio with live models, f
 or a realistic training experience. The carotid duplex/color flow trai
 ning program is the first step in obtaining a strong foundation in ord
 er to begin performing and/or interpreting Carotid Ultrasound Examinat
 ions.  The Carotid Ultrasound protocols are taught in accordance wit
 h AIUM and IAC guidelines. In addition, the intensive hands-on carotid
  duplex/color flow imaging program provides the training needed to imm
 ediately begin integrating the newly acquired skills into clinical pra
 ctice.\n\nFor more information visit https://community.radrounds.com/e
 vents/introduction-to-carotid-duplex-color-flow-imaging-hands-on-only
DTSTART:20150608T220000Z
DTEND:20150610T230000Z
CATEGORIES:ultrasound, cme, seminar
LOCATION:Gulfcoast Ultrasound Institute, Inc.
WEBSITE:https://www.gcus.com/courses/about.asp?course=834/Introduction
 -to-Carotid-Duplex-Color-Flow-Imaging-Hands-On-Only-Workshop
URL:https://www.gcus.com/courses/about.asp?course=834/Introduction-to-
 Carotid-Duplex-Color-Flow-Imaging-Hands-On-Only-Workshop
CONTACT:800.619.1900
ORGANIZER;CN="Casey Green":https://community.radrounds.com/profile/Jam
 esSalame
ATTACH;FMTTYPE="image/jpeg":
ATTENDEE;ROLE=REQ-PARTICIPANT;PARTSTAT=ACCEPTED;RSVP=TRUE;CN="Casey Gr
 een":https://community.radrounds.com/profile/JamesSalame
END:VEVENT
END:VCALENDAR
