BEGIN:VCALENDAR
PRODID:NingEventWidget-v1
VERSION:2.0
METHOD:PUBLISH
BEGIN:VEVENT
UID:1791588:Event:164607
DTSTAMP:20260420T221413Z
SUMMARY:Introduction to Carotid Duplex/Color Flow Imaging
DESCRIPTION:The Introduction to Carotid Duplex/Color Flow Imaging Cour
 se is the first step in obtaining a strong foundation in order to begi
 n performing and/or interpreting Carotid Ultrasound Examinations. This
  course is taught by leading vascular ultrasound experts and includes 
 lectures, interactive case presentations, and extensive hands-on scann
 ing, featuring a 3:1 ratio with live models and knowledgeable hands on
  instructors.\n\nFor more information visit https://community.radround
 s.com/events/introduction-to-carotid-duplex-color-flow-imaging-8
DTSTART:20160502T040000Z
DTEND:20160505T035900Z
CATEGORIES:ultrasound, cme, seminar
LOCATION:Gulfcoast Ultrasound Institute, Inc.
WEBSITE:https://www.gcus.com/courses/about.asp?course=932/Introduction
 -to-Carotid-Duplex-Color-Flow-Imaging
URL:https://www.gcus.com/courses/about.asp?course=932/Introduction-to-
 Carotid-Duplex-Color-Flow-Imaging
CONTACT:800-619-1900
ORGANIZER;CN="Casey Green":https://community.radrounds.com/profile/Jam
 esSalame
ATTACH;FMTTYPE="image/jpeg":
ATTENDEE;ROLE=REQ-PARTICIPANT;PARTSTAT=ACCEPTED;RSVP=TRUE;CN="Casey Gr
 een":https://community.radrounds.com/profile/JamesSalame
END:VEVENT
END:VCALENDAR
