BEGIN:VCALENDAR
PRODID:NingEventWidget-v1
VERSION:2.0
METHOD:PUBLISH
BEGIN:VEVENT
UID:1791588:Event:160918
DTSTAMP:20260421T122351Z
SUMMARY:Introduction to Carotid Duplex/Color Flow Imaging
DESCRIPTION:The Introduction to Carotid Duplex/Color Flow Imaging hand
 s-on course is a live, 3-day program taught by leading vascular ultras
 ound experts. The carotid duplex/color flow training course includes l
 ectures, 70+ case presentations using an interactive audience response
  system (ARS), and extensive hands-on training featuring a 3:1 ratio w
 ith live models, for a realistic training experience. The carotid dupl
 ex/color flow training program is the first step in obtaining a strong
  foundation in order to begin performing and/or interpreting Carotid U
 ltrasound Examinations.\n\nFor more information visit https://communit
 y.radrounds.com/events/introduction-to-carotid-duplex-color-flow-imagi
 ng-6
DTSTART:20150608T040000Z
DTEND:20150611T035900Z
CATEGORIES:ultrasound, cme, seminar
LOCATION:Gulfcoast Ultrasound Institute, Inc.
WEBSITE:https://www.gcus.com/courses/about.asp?course=832/Introduction
 -to-Carotid-Duplex-Color-Flow-Imaging
URL:https://www.gcus.com/courses/about.asp?course=832/Introduction-to-
 Carotid-Duplex-Color-Flow-Imaging
CONTACT:800.619.1900
ORGANIZER;CN="Casey Green":https://community.radrounds.com/profile/Jam
 esSalame
ATTACH;FMTTYPE="image/jpeg":
ATTENDEE;ROLE=REQ-PARTICIPANT;PARTSTAT=ACCEPTED;RSVP=TRUE;CN="Casey Gr
 een":https://community.radrounds.com/profile/JamesSalame
END:VEVENT
END:VCALENDAR
