BEGIN:VCALENDAR
PRODID:NingEventWidget-v1
VERSION:2.0
METHOD:PUBLISH
BEGIN:VEVENT
UID:1791588:Event:186449
DTSTAMP:20260421T161235Z
SUMMARY:INTRODUCTION TO CAROTID DUPLEX/COLOR FLOW IMAGING
DESCRIPTION:Introduction to Carotid Duplex/Color Flow Imaging Live Tra
 ining Course is taught by leading vascular ultrasound experts, with a 
 3:1 faculty to participant hands-on scan ratio and is specifically des
 igned for physicians, sonographers and other medical professionals who
  need carotid ultrasound training. GCUS offers (2) Two Day Carotid Ult
 rasound Courses at our facility in St. Petersburg, FL that includes 70
 + interactive case presentations. GCUS offers Carotid Ultrasound Train
 ing as a stand alone (2) two day course, or as part of a (4) four day 
 Vascular Ultrasound Training and CME Program. In the (4) Four Day vasc
 ular program, participants will learn ultrasound techniques for the en
 tire vascular system.\n\nFor more information visit https://community.
 radrounds.com/events/introduction-to-carotid-duplex-color-flow-imaging
 -13
DTSTART:20191014T114500Z
DTEND:20191015T203000Z
CATEGORIES:live, cme, seminar
LOCATION:Gulfcoast Ultrasound Institute
WEBSITE:https://www.gcus.com/
URL:https://www.gcus.com/
CONTACT:727-363-4500
ORGANIZER:Gulfcoast Ultrasound Institute, Inc
ATTACH;FMTTYPE="image/jpeg":https://storage.ning.com/topology/rest/1.0
 /file/get/544021848?profile=original
ATTENDEE;ROLE=REQ-PARTICIPANT;PARTSTAT=ACCEPTED;RSVP=TRUE;CN="Casey Gr
 een":https://community.radrounds.com/profile/JamesSalame
END:VEVENT
END:VCALENDAR
