BEGIN:VCALENDAR
PRODID:NingEventWidget-v1
VERSION:2.0
METHOD:PUBLISH
BEGIN:VEVENT
UID:1791588:Event:170118
DTSTAMP:20260421T205728Z
SUMMARY:Introduction to Carotid Duplex/Color Flow Imaging
DESCRIPTION:The Introduction to Carotid Duplex/Color Flow Imaging Cour
 se is the first step in obtaining a strong foundation in order to begi
 n performing and/or interpreting Carotid Ultrasound Examinations. This
  course is taught by leading vascular ultrasound experts and includes 
 lectures, interactive case presentations, and extensive hands-on scann
 ing, featuring a 3:1 ratio with live models and knowledgeable hands on
  instructors.\n\nObjectives\n\nIncrease the participant’s knowledge 
 to better perform and/or interpret Carotid Duplex/Color Flow Imaging u
 ltrasound examinations.\nApply knowledge of the anatomy/physiology of 
 the cerebrovascular system into the Carotid Duplex examination.\nCite 
 Doppler/color physics principles and be able to (sonographers) apply t
 hese principles to optimize system controls or (physicians) utilize th
 is information for identifying technical errors which may result in mi
 sdiagnosis.\nPerform routine scan protocols and Doppler calculations i
 n a complete carotid duplex/color examination.\nDifferentiate normal/a
 bnormal spectral Doppler/color characteristics.\nList methods for obta
 ining quantitative information and state the diagnostic relevance of e
 ach measurement.\nCharacterize plaque morphology and other pathology a
 ssociated with cerebral vascular disease.\nPerform Intima-Media Thickn
 ess measurements and state the clinical significance as a screening me
 thod for cardiovascular disease.\nIntegrate the information to include
  and prepare a structured report for a carotid ultrasound examination.
 \nApply diagnostic criteria for accurate interpretation of carotid dup
 lex/color flow examinations\n\n \n\nTopics\n\nDoppler & Color Fundame
 ntals\nCarotid Anatomy & Physiology\nNormal Spectral Analysis\nCarotid
  Scan Protocol\nDisease Progression & Stenosis Assessment\nCarotid Ima
 ging Pitfalls\nInteractive Case Studies\nEvaluation & Measurement of I
 ntima-Media Thickness\nCarotid Abnormalities\nHow to Structure a Repor
 t\n\n\nFor more information visit https://community.radrounds.com/even
 ts/introduction-to-carotid-duplex-color-flow-imaging-11
DTSTART:20171023T110000Z
DTEND:20171025T210000Z
CATEGORIES:cme, conference
LOCATION:Gulfcoast Ultrasound Institute
WEBSITE:https://www.gcus.com/courses/about.asp?course=1085/Introductio
 n-to-Carotid-Duplex-Color-Flow-Imaging
URL:https://www.gcus.com/courses/about.asp?course=1085/Introduction-to
 -Carotid-Duplex-Color-Flow-Imaging
CONTACT:7273634500
ORGANIZER:Gulfcoast Ultrasound Institute, Inc
ATTACH;FMTTYPE="image/jpeg":http://storage.ning.com/topology/rest/1.0/
 file/get/1044773900?profile=original
ATTENDEE;ROLE=REQ-PARTICIPANT;PARTSTAT=ACCEPTED;RSVP=TRUE;CN="Casey Gr
 een":https://community.radrounds.com/profile/JamesSalame
END:VEVENT
END:VCALENDAR
