BEGIN:VCALENDAR
PRODID:NingEventWidget-v1
VERSION:2.0
METHOD:PUBLISH
BEGIN:VEVENT
UID:1791588:Event:170202
DTSTAMP:20260422T095201Z
SUMMARY:Introduction to Carotid Duplex/Color Flow Imaging
DESCRIPTION:Introduction to Carotid Duplex/Color Flow Imaging\nThe Int
 roduction to Carotid Duplex/Color Flow Imaging Course is the first ste
 p in obtaining a strong foundation in order to begin performing and/or
  interpreting Carotid Ultrasound Examinations. This course is taught b
 y leading vascular ultrasound experts and includes lectures, interacti
 ve case presentations, and extensive hands-on scanning, featuring a 3:
 1 ratio with live models and knowledgeable hands on instructors.\nObje
 ctives\n\nIncrease the participant’s knowledge to better perform and
 /or interpret Carotid Duplex/Color Flow Imaging ultrasound examination
 s.\nApply knowledge of the anatomy/physiology of the cerebrovascular s
 ystem into the Carotid Duplex examination.\nCite Doppler/color physics
  principles and be able to (sonographers) apply these principles to op
 timize system controls or (physicians) utilize this information for id
 entifying technical errors which may result in misdiagnosis.\nPerform 
 routine scan protocols and Doppler calculations in a complete carotid 
 duplex/color examination.\nDifferentiate normal/abnormal spectral Dopp
 ler/color characteristics.\nList methods for obtaining quantitative in
 formation and state the diagnostic relevance of each measurement.\nCha
 racterize plaque morphology and other pathology associated with cerebr
 al vascular disease.\nPerform Intima-Media Thickness measurements and 
 state the clinical significance as a screening method for cardiovascul
 ar disease.\nIntegrate the information to include and prepare a struct
 ured report for a carotid ultrasound examination.\nApply diagnostic cr
 iteria for accurate interpretation of carotid duplex/color flow examin
 ations\n\n\n\nTopics\n\nDoppler & Color Fundamentals\nCarotid Anatomy 
 & Physiology\nNormal Spectral Analysis\nCarotid Scan Protocol\nDisease
  Progression & Stenosis Assessment\nCarotid Imaging Pitfalls\nInteract
 ive Case Studies\nEvaluation & Measurement of Intima-Media Thickness\n
 Carotid Abnormalities\nHow to Structure a Report\n\n\n\nFor more infor
 mation visit https://community.radrounds.com/events/introduction-to-ca
 rotid-duplex-color-flow-imaging-10
DTSTART:20170508T110000Z
DTEND:20170510T210000Z
CATEGORIES:cme, conference
LOCATION:Gulfcoast Ultrasound Institute
WEBSITE:https://www.gcus.com/courses/about.asp?course=1084/Introductio
 n-to-Carotid-Duplex-Color-Flow-Imaging
URL:https://www.gcus.com/courses/about.asp?course=1084/Introduction-to
 -Carotid-Duplex-Color-Flow-Imaging
CONTACT:17273634500
ORGANIZER:GCUS
ATTACH;FMTTYPE="image/jpeg":http://storage.ning.com/topology/rest/1.0/
 file/get/1044771799?profile=original
ATTENDEE;ROLE=REQ-PARTICIPANT;PARTSTAT=ACCEPTED;RSVP=TRUE;CN="Casey Gr
 een":https://community.radrounds.com/profile/JamesSalame
END:VEVENT
END:VCALENDAR
