BEGIN:VCALENDAR
PRODID:NingEventWidget-v1
VERSION:2.0
METHOD:PUBLISH
BEGIN:VEVENT
UID:1791588:Event:59026
DTSTAMP:20260421T043844Z
SUMMARY:Introduction to Carotid Duplex/Color Flow Imaging Seminar -- O
 ctober 2010
DESCRIPTION:Introduction to Carotid Duplex/Color Flow Imaging Seminar 
 -- October 2010\nMonday, October 25, 2010 - Wednesday, October 27, 201
 0\nSt. Pete Beach, FL\n\nMEETING SPONSOR:\n Gulfcoast Ultrasound Insti
 tute\nGulfcoast Staff\n4615 Gulf Blvd. Suite 205\nSaint Pete Beach, FL
  33706\nToll-Free (800) 619-1900\n(727) 363-4500\nFAX (727) 363-0811\n
 Website: http://www.gcus.com/ProgramDetails2.aspx?ID=351&scheduleID=34
 3&type=PROGRAM&mode=View\n\nCONFERENCE CENTER:\nGulfcoast Ultrasound I
 nstitute\n4615 Gulf Blvd. Suite 205\nSt. Pete Beach, FL 33706\nToll-Fr
 ee (800) 619-1900\n(727) 363-4500\nFAX (727) 363-0811\nEmail: learn@gc
 us.com\nWebsite: http://www.gcus.com\n\nMEETING DESCRIPTION:\nProgram 
 Name: Introduction to Carotid Duplex/Color Flow Imaging Seminar -- Oct
 ober 2010\nStart Date: 10/25/2010\nEnd Date: 10/27/2010\nAMA Cat. 1 CM
 E Credits: 24.0\nOther CME Credits: 23.0 ASRT Cat. A Credits\nAdvanced
  Registration: $1,450.00\nRegular Registration: $1,490.00\nLocation: G
 ulfcoast Ultrasound Institute\nAddress: 4615 Gulf Blvd, Suite 205\nSt.
  Pete Beach, FL 33706\n\nThe Advanced Registration fee is honored if p
 ayment is made/postmarked 21 days or more prior to the beginning date 
 of the program.\n\nIf it's 10 Days Before the Course call first for sp
 ace availability.\n\nRegister for this program and Introduction to Per
 ipheral Vascular Duplex/Color Flow Imaging -- October 2010 and save!\n
 \nCombined discounted rate = $2,585. Register for both programs.\n\nPl
 us, save 5% when registering two or more attendees at the same time wi
 th the same form of payment to any program. The Shopping Cart will aut
 omatically discount 5% from the registration fee.\n\nAt the completion
  of the program the participant should be able to:\n\n1. Identify the 
 anatomy/physiology of the cerebrovascular system.\n2. Discuss Doppler/
 color physics and be able to (sonographers) apply these principles to 
 optimize system controls or (physicians) utilize this information for 
 identifying technical errors which may result in misdiagnosis.\n3. Per
 form routine scan protocols, and Doppler calculations in a complete ca
 rotid duplex/color examination.\n4. Identify normal/abnormal spectral 
 Doppler/ color characteristics; explain methods for obtaining quantita
 tive information and state the diagnostic relevance of each measuremen
 t.\n5. Desscribe and characterize plaque and other pathology associate
 d with cerebrovascular disease.\n6. Discuss Intima-Media Thickness mea
 surements and evaluation and their clinical significance as a screenin
 g method for cardiovascular disease.\n7. Apply the information discuss
 ed in a clinical setting, under supervised conditions until an accepte
 d level of proficiency has been achieved.\n8. Increase knowledge and c
 onfidence to perform and/or interpret examinations.\n\nCourse Topics:\
 n\n* Doppler fundamentals\n* Anatomy/physiology and disease progressio
 n\n* Normal spectral analysis\n* Carotid scan protocol\n* Color optimi
 zation\n* Carotid stenosis assessment\n* Interactive interpretation ca
 se studies\n* Imaging “Do’s & Don’ts”\n* Technical worksheet/d
 ocument waverforms and measurements\n* Structure report\n* Intima-Medi
 a Thickness: Measurement and Evaluation\n* Hands-on sessions\n\nWho Ca
 n Attend?\n\nSonographers and other medical professionals learning how
  to perform carotid duplex/color examinations (proof of allied health 
 experience required). Physicians at an entry level of interpreting exa
 minations. Physician participants may include (but are not limited to)
  those involved with internal medicine, cardiology, radiology, and gen
 eral/vascular surgery.\n\nFaculty:\n\nPhil Bendick, PhD., RVT\nDirecto
 r, Vascular Laboratory\nWilliam Beaum\n\nCME HOURS: 24.0\n\nLECTURE TO
 PICS:\n Cardiac, Chest, Ultrasound, Vascular\n\nFor more information v
 isit https://community.radrounds.com/events/introduction-to-carotid-2
DTSTART:20101025T040000Z
DTEND:20101028T035900Z
CATEGORIES:flow, imaging, seminar
LOCATION:Gulfcoast Ultrasound Institute
WEBSITE:http://www.gcus.com
URL:http://www.gcus.com
CONTACT:(727) 363-4500
ORGANIZER:Gulfcoast Ultrasound Institute
ATTACH;FMTTYPE="image/jpeg":
ATTENDEE;ROLE=REQ-PARTICIPANT;PARTSTAT=ACCEPTED;RSVP=TRUE;CN="radRound
 s Radiology Events":https://community.radrounds.com/profile/radRoundsR
 adiologyEvents
END:VEVENT
END:VCALENDAR
