BEGIN:VCALENDAR
PRODID:NingEventWidget-v1
VERSION:2.0
METHOD:PUBLISH
BEGIN:VEVENT
UID:1791588:Event:160842
DTSTAMP:20260419T141813Z
SUMMARY:Introduction to Adult Echocardiography - Hands-On Only Worksho
 p
DESCRIPTION:The 5-day Introduction to adult echocardiograph hands-on o
 nly workshop is taught by leading vascular ultrasound experts.  The a
 dult echocardiography scan only course is open to participants who hav
 e completed a previous live or online GCUS adult echocardiography cour
 se.  The scanning is conducted during the afternoon and provides exte
 nsive hands-on scanning featuring a 3:1 ratio with live models, for a 
 realistic training experience. The adult echocardiography protocols a
 re taught in accordance with ASE and IAC guidelines. In addition, the 
 hands-on adult echocardiography scanning only workshop provides additi
 onal skills training to begin integrating the techniques learned into 
 clinical practice.\n\nFor more information visit https://community.rad
 rounds.com/events/introduction-to-adult-echocardiography-hands-on-only
 -workshop
DTSTART:20150727T040000Z
DTEND:20150801T035900Z
CATEGORIES:ultrasound, cme, seminar
LOCATION:Gulfcoast Ultrasound Institute, Inc.
WEBSITE:https://www.gcus.com/courses/about.asp?course=867/Introduction
 -to-Adult-Echocardiography-Hands-On-Only-Workshop
URL:https://www.gcus.com/courses/about.asp?course=867/Introduction-to-
 Adult-Echocardiography-Hands-On-Only-Workshop
CONTACT:800.619.1900
ORGANIZER;CN="Casey Green":https://community.radrounds.com/profile/Jam
 esSalame
ATTACH;FMTTYPE="image/jpeg":
ATTENDEE;ROLE=REQ-PARTICIPANT;PARTSTAT=ACCEPTED;RSVP=TRUE;CN="Casey Gr
 een":https://community.radrounds.com/profile/JamesSalame
END:VEVENT
END:VCALENDAR
