BEGIN:VCALENDAR
PRODID:NingEventWidget-v1
VERSION:2.0
METHOD:PUBLISH
BEGIN:VEVENT
UID:1791588:Event:164815
DTSTAMP:20260420T102715Z
SUMMARY:Introduction to Adult Echocardiography
DESCRIPTION:Introduction to Adult Echocardiography is designed to prov
 ide a strong foundation to perform and/or interpret adult cardiac ultr
 asound examinations. The program is taught by leading echocardiography
  experts, and includes lectures, interactive case studies using an aud
 io response system (ARS), and extensive hands on scanning featuring a 
 3:1 hands-on ratio using live models.\n\nFor more information visit ht
 tps://community.radrounds.com/events/introduction-to-adult-echocardiog
 raphy-5
DTSTART:20160718T040000Z
DTEND:20160723T035900Z
CATEGORIES:ultrasound, cme, seminar
LOCATION:Gulfcoast Ultrasound Institute, Inc.
WEBSITE:https://www.gcus.com/courses/about.asp?course=940/Introduction
 -to-Adult-Echocardiography
URL:https://www.gcus.com/courses/about.asp?course=940/Introduction-to-
 Adult-Echocardiography
CONTACT:800-619-1900
ORGANIZER;CN="Casey Green":https://community.radrounds.com/profile/Jam
 esSalame
ATTACH;FMTTYPE="image/jpeg":
ATTENDEE;ROLE=REQ-PARTICIPANT;PARTSTAT=ACCEPTED;RSVP=TRUE;CN="Casey Gr
 een":https://community.radrounds.com/profile/JamesSalame
END:VEVENT
END:VCALENDAR
