BEGIN:VCALENDAR
PRODID:NingEventWidget-v1
VERSION:2.0
METHOD:PUBLISH
BEGIN:VEVENT
UID:1791588:Event:160693
DTSTAMP:20260421T111545Z
SUMMARY:Introduction to Adult Echocardiography
DESCRIPTION:Introduction to Adult Echocardiography Course is a live, f
 ive-day hands-on course designed to provide a strong foundation to per
 form and/or interpret adult cardiac ultrasound examinations. The Intro
  to Echo program is taught by leading echocardiography experts, and in
 cludes lectures, interactive case studies using an audio response syst
 em (ARS), and extensive hands-on scanning, featuring a 3:1 ratio using
  live models for a realistic training experience. This hands-on cardia
 c ultrasound training program includes the review of 200+ cases to imp
 rove the participants’ ability to recognize commonly seen pathology 
 and improve confidence in both performing and interpreting adult cardi
 ac ultrasound examinations. This comprehensive, Introduction to Adult
  Echocardiography course will increase knowledge and competence to imm
 ediately  begin integrating the newly acquired skills into clinical p
 ractice.\n\nFor more information visit https://community.radrounds.com
 /events/introduction-to-adult-echocardiography-4
DTSTART:20151207T050000Z
DTEND:20151212T045900Z
CATEGORIES:ultrasound, cme, seminar
LOCATION:Gulfcoast Ultrasound Institute, Inc.
WEBSITE:https://www.gcus.com/courses/about.asp?course=864/Introduction
 -to-Adult-Echocardiography
URL:https://www.gcus.com/courses/about.asp?course=864/Introduction-to-
 Adult-Echocardiography
CONTACT:800.619.1900
ORGANIZER;CN="Casey Green":https://community.radrounds.com/profile/Jam
 esSalame
ATTACH;FMTTYPE="image/jpeg":
ATTENDEE;ROLE=REQ-PARTICIPANT;PARTSTAT=ACCEPTED;RSVP=TRUE;CN="Casey Gr
 een":https://community.radrounds.com/profile/JamesSalame
END:VEVENT
END:VCALENDAR
