BEGIN:VCALENDAR
PRODID:NingEventWidget-v1
VERSION:2.0
METHOD:PUBLISH
BEGIN:VEVENT
UID:1791588:Event:173013
DTSTAMP:20260421T045036Z
SUMMARY:Introduction to Abdominal/Primary Care and OB/GYN Ultrasound E
 ducation
DESCRIPTION:The 6 Day Combined Intro to Abdominal & Primary Care and I
 ntro to OB/GYN Ultrasound course covers a wide range of topics from ab
 dominal, trauma, thyroid, scrotal, and soft-tissue applications, to tr
 ansabdominal and endovaginal scan techniques, and OB applications. Thi
 s unique and comprehensive OB/GYN and abdominal ultrasound hands-on co
 urse/program incorporates live lectures, interactive case presentation
 s, and extensive hands-on scanning, featuring a 3:1 instructor to part
 icipant ratio with live models.\n\nFor more information visit https://
 community.radrounds.com/events/introduction-to-abdominal-primary-care-
 and-ob-gyn-ultrasound
DTSTART:20170605T040000Z
DTEND:20170611T035900Z
CATEGORIES:continuing, medical, education
LOCATION:Gulfcoast Ultrasound Institute
WEBSITE:http://gcus.com
URL:http://gcus.com
CONTACT:727-363-4500
ORGANIZER;CN="Casey Green":https://community.radrounds.com/profile/Jam
 esSalame
ATTACH;FMTTYPE="image/jpeg":
ATTENDEE;ROLE=REQ-PARTICIPANT;PARTSTAT=ACCEPTED;RSVP=TRUE;CN="Casey Gr
 een":https://community.radrounds.com/profile/JamesSalame
END:VEVENT
END:VCALENDAR
