BEGIN:VCALENDAR
PRODID:NingEventWidget-v1
VERSION:2.0
METHOD:PUBLISH
BEGIN:VEVENT
UID:1791588:Event:170067
DTSTAMP:20260421T044928Z
SUMMARY:Introduction to Abdominal and Primary Care Ultrasound
DESCRIPTION:The Introduction to Abdominal & Primary Care Ultrasound tr
 aining course is taught by leading experts and covers abdominal, traum
 a, thyroid, scrotal, and soft-tissue applications. This unique course 
 incorporates comprehensive lectures, interactive case presentations, a
 nd extensive hands-on scanning, featuring a 3:1 ratio with live models
  and inanimate phantoms.\nObjectives\n\nIncrease participant’s knowl
 edge to better perform and/or interpret abdominal ultrasound examinati
 ons.\nDemonstrate proper transducer manipulation and system optimizati
 on to produce diagnostic images.\nPerform scan protocols and routine m
 easurements that are utilized during an abdominal ultrasound evaluatio
 n.\nIdentify normal/abnormal imaging characteristics of the liver, gal
 lbladder, pancreas, spleen, kidneys and abdominal vasculature.\nCite D
 oppler/color physics principles and be able to (sonographers) apply th
 ese principles to optimize system controls or (physicians) utilize thi
 s information for identifying technical errors which may result in mis
 diagnosis (optional lecture).\nDemonstrate routine examination protoco
 ls associated with the ultrasound evaluation of renal artery stenosis 
 (optional lecture).\nDifferentiate normal/abnormal characteristics for
  the evaluation of the thyroid, testes/scrotum, and appendix.\nPerform
  ultrasound evaluation of the trauma patient (FAST exam).\nDemonstrate
  the use of ultrasound for evaluation of soft-tissue pathology.\nIncre
 ase confidence to incorporate protocols, scan techniques & interpretat
 ion criteria to improve diagnostic/treatment accuracy.\n\n \n\nTopics
 \n\nImaging Fundamentals\nAbdominal Anatomy/Scan Techniques\nAbdominal
  Aorta\nLiver Sonography & Pathology\nGallbladder & Biliary Tree Sonog
 raphy & Pathology\nSpleen, Pancreas, and Renal\nScrotal / Testicular\n
 Evaluation of the Appendix & GI Tract\nThyroid\nEFAST Exam, Soft Tissu
 e & MSK Applications\nInteractive Case Studies\n\n\n\nFor more informa
 tion visit https://community.radrounds.com/events/introduction-to-abdo
 minal-and-primary-care-ultrasound-5
DTSTART:20171106T120000Z
DTEND:20171108T220000Z
CATEGORIES:cme, conference
LOCATION:Gulfcoast Ultrasound Institute
WEBSITE:https://www.gcus.com/courses/about.asp?course=1093/Introductio
 n-to-Abdominal-and-Primary-Care-Ultrasound
URL:https://www.gcus.com/courses/about.asp?course=1093/Introduction-to
 -Abdominal-and-Primary-Care-Ultrasound
CONTACT:7273634500
ORGANIZER:Gulfcoast Ultrasound Institute, Inc
ATTACH;FMTTYPE="image/jpeg":http://storage.ning.com/topology/rest/1.0/
 file/get/1044774109?profile=original
ATTENDEE;ROLE=REQ-PARTICIPANT;PARTSTAT=ACCEPTED;RSVP=TRUE;CN="Casey Gr
 een":https://community.radrounds.com/profile/JamesSalame
END:VEVENT
END:VCALENDAR
