BEGIN:VCALENDAR
PRODID:NingEventWidget-v1
VERSION:2.0
METHOD:PUBLISH
BEGIN:VEVENT
UID:1791588:Event:164906
DTSTAMP:20260420T231534Z
SUMMARY:Introduction to Abdominal and Primary Care Ultrasound
DESCRIPTION:The Introduction to Abdominal & Primary Care Ultrasound tr
 aining course is taught by leading experts and covers abdominal, traum
 a, thyroid, scrotal, and soft-tissue applications. This unique course 
 incorporates comprehensive lectures, interactive case presentations, a
 nd extensive hands-on scanning, featuring a 3:1 ratio with live models
  and inanimate phantoms.\n\nFor more information visit https://communi
 ty.radrounds.com/events/introduction-to-abdominal-and-primary-care-ult
 rasound-2
DTSTART:20160606T040000Z
DTEND:20160609T035900Z
CATEGORIES:ultrasound, cme, seminar
LOCATION:Gulfcoast Ultrasound Institute, Inc.
WEBSITE:https://www.gcus.com/courses/about.asp?course=936/Introduction
 -to-Abdominal-and-Primary-Care-Ultrasound
URL:https://www.gcus.com/courses/about.asp?course=936/Introduction-to-
 Abdominal-and-Primary-Care-Ultrasound
CONTACT:800-619-1900
ORGANIZER;CN="Casey Green":https://community.radrounds.com/profile/Jam
 esSalame
ATTACH;FMTTYPE="image/jpeg":
ATTENDEE;ROLE=REQ-PARTICIPANT;PARTSTAT=ACCEPTED;RSVP=TRUE;CN="Casey Gr
 een":https://community.radrounds.com/profile/JamesSalame
END:VEVENT
END:VCALENDAR
