BEGIN:VCALENDAR
PRODID:NingEventWidget-v1
VERSION:2.0
METHOD:PUBLISH
BEGIN:VEVENT
UID:1791588:Event:73171
DTSTAMP:20260425T203916Z
SUMMARY:Intro to Venous Imaging and Ultrasound Evaluation for Vein The
 rapy
DESCRIPTION:Intro to Venous Imaging and Ultrasound Evaluation for Vein
  Therapy -- October 2011\n\nStart Date: 10/27/2011\nEnd Date: 10/28/20
 11\nAdvanced Registration: $1,425.00\nRegular Registration: $1,465.00\
 nLocation: Gulfcoast Ultrasound Institute\n4615 Gulf Blvd., Suite 205\
 nSt. Pete Beach, FL 33706\n\n*The Advanced Registration fee is honored
  if payment is made/postmarked 21 days or more prior to the beginning 
 date of the program\n\nA $100.00 late fee will apply if registering le
 ss than or equal to 7 Days before the course. Call to register if less
  than or equal to 7 days from course date.\n\nObjectives & Topics\n\nA
 t the completion of this program, the participant should be able to:\n
 \nâ€¢ Identify the anatomy/physiology of the upper & lower extremity v
 enous systems.\nâ€¢ Discuss Doppler/color physics and be able to (sono
 graphers) apply these principles to optimize system controls or (physi
 cians) utilize this information for recognizing technical errors which
  may result in misdiagnosis.\nâ€¢ Perform routine scan protocols, and 
 document Doppler waveforms for venous evaluation of the lower extremit
 y including pre and post vein ablation evaluation.\nâ€¢ Identify norma
 l/abnormal spectral Doppler/color characteristics and waveform charact
 eristics for identifying venous disease.\nâ€¢ Recognize image characte
 ristics of acute versus chronic DVT.\nâ€¢ Discuss the use of Ultrasoun
 d-Guidance and its role in the treatment of venous insufficiency.\nâ€¢
  Perform evaluation for venous insufficiency to determine suitability 
 for vein therapy treatment and to determine patency of perforators.\nâ
 €¢ State the diagnostic criteria for identifying significant venous in
 sufficiency.\nâ€¢ Increase the participantsâ€™ knowledge to better per
 form and/or interpret lower extremity venous evaluation for vein closu
 re procedures.\nâ€¢ Apply the information discussed in a clinical sett
 ing, under supervised conditions until an accepted level of proficienc
 y has been achieved.\n\nCourse Topics:\nâ€¢ Doppler fundamentals\nâ€¢ 
 Venous anatomy/scan techniques and normal characteristics\nâ€¢ Evaluat
 ion of venous pathology\nâ€¢ Live demo: evaluation for DVT and venous 
 insufficiency\nâ€¢ Upper extremity venous evaluation\nâ€¢ Saphenous ve
 in mapping\nâ€¢ U/S evaluation for pre and post vein ablation therapy\
 nâ€¢ Venous insufficiency and perforator evaluation\nâ€¢ Hands-on sess
 ions\n\nFaculty\nPhil Bendick, PhD, RVT\nDirector, Vascular Laboratory
 \nWilliam Beaumont Hospital\nRoyal Oak, MI\nConsultant accepting honor
 arium from Gulfcoast Ultrasound Institute, Inc.\n\nTarget Audience\nSo
 nographers, physicians, PAs and other medical professionals who are at
  an entry level of performing venous exams for eval. of DVT & pre & po
 st U/S eval. for vein ablation procedures. Physician may include (but 
 are not limited to) internists, cardiologists, radiologists and genera
 l/vascular surgeons.\n\nCME Credit Statements\nThe Gulfcoast Ultrasoun
 d Institute is accredited by the Accreditation Council for Continuing 
 Medical Education to provide continuing medical education for physicia
 ns.\n\nThe Gulfcoast Ultrasound Institute designates this educational 
 activity for a maximum of 16.0 AMA PRA Category 1 CME Credit(s)â„¢. Ph
 ysicians should only claim credit commensurate with the extent of thei
 r participation in the activity.\n\nThis course also meets CME/CEU req
 uirements for ARDMS. Note: While offering the CME credit hours noted a
 bove, activities are not intended to provide extensive training or cer
 tification for exam performance or interpretation.\n\nFor more informa
 tion visit https://community.radrounds.com/events/intro-to-venous-imag
 ing-and-7
DTSTART:20111027T040000Z
DTEND:20111029T035900Z
CATEGORIES:imaging, and, ultrasound
LOCATION:Gulfcoast Ultrasound Institute
WEBSITE:http://www.gcus.com/detail.asp?MediaType=Program&MediaNumber=P
 VT-113
URL:http://www.gcus.com/detail.asp?MediaType=Program&MediaNumber=PVT-1
 13
CONTACT:
ORGANIZER:Gulfcoast Ultrasound Institute, Inc.
ATTACH;FMTTYPE="image/jpeg":
ATTENDEE;ROLE=REQ-PARTICIPANT;PARTSTAT=ACCEPTED;RSVP=TRUE;CN="radRound
 s Radiology Events":https://community.radrounds.com/profile/radRoundsR
 adiologyEvents
END:VEVENT
END:VCALENDAR
