BEGIN:VCALENDAR
PRODID:NingEventWidget-v1
VERSION:2.0
METHOD:PUBLISH
BEGIN:VEVENT
UID:1791588:Event:59072
DTSTAMP:20260420T061418Z
SUMMARY:Intro to Venous Imaging and Ultrasound Evaluation for Vein The
 rapy -- October 2010
DESCRIPTION:Intro to Venous Imaging and Ultrasound Evaluation for Vein
  Therapy -- October 2010\nThursday, October 28, 2010 - Friday, October
  29, 2010\nSt. Pete Beach, FL\n\nMEETING SPONSOR:\n Gulfcoast Ultrasou
 nd Institute\nGulfcoast Staff\n4615 Gulf Blvd. Suite 205\nSaint Pete B
 each, FL 33706\nToll-Free (800) 619-1900\n(727) 363-4500\nFAX (727) 36
 3-0811\nEmail: learn@gcus.com\nWebsite: http://www.gcus.com/ProgramDet
 ails2.aspx?ID=354&scheduleID=346&type=PROGRAM&mode=View\n\nCONFERENCE 
 CENTER:\nGulfcoast Ultrasound Institute\n4615 Gulf Blvd. Suite 205\nSt
 . Pete Beach, FL 33706\nToll-Free (800) 619-1900\n(727) 363-4500\nFAX 
 (727) 363-0811\nEmail: learn@gcus.com\nWebsite: http://www.gcus.com\n\
 nMEETING DESCRIPTION:\nProgram Name: Intro to Venous Imaging and Ultra
 sound Evaluation for Vein Therapy -- October 2010\nStart Date: 10/28/2
 010\nEnd Date: 10/29/2010\nAMA Cat. 1 CME Credits: 16.0\nOther CME Cre
 dits:\nAdvanced Registration: $1,295.00\nRegular Registration: $1,335.
 00\nLocation: Gulfcoast Ultrasound Institute\nAddress: 4615 Gulf Blvd.
 , Suite 205\nSt. Pete Beach, FL 33706\n\nThe Advanced Registration fee
  is honored if payment is made/postmarked 21 days or more prior to the
  beginning date of the program.\n\nIf it's 10 Days Before the Course c
 all first for space availability.\n\nRegister for this program and Int
 roduction to Carotid Duplex/Color Flow Imaging Seminar -- October 2010
  and save!\n\nCombined discounted rate = $2,700. Register for both pro
 grams.\n\nPlus, save 5% when registering two or more attendees at the 
 same time with the same form of payment to any program. The Shopping C
 art will automatically discount 5% from the registration fee.\n\nBefor
 e You Come to the Course\n\nCourse participants will need to review th
 e pre-recorded online webinar Evaluation of Venous Insufficiency for V
 ein Therapy (included with course tuition) by Rob Daigle, BA, RVT, FSV
 U, prior to attending the course.\n\nIn addition to the registration c
 onfirmation e-mail, an e-mail for logging in to the pre-recorded webin
 ar will be sent out two weeks prior to the program start date. Course 
 participants will have access to the webinar up to two weeks after the
  course ends.\n\nCourse Objectives:\n\nAt the completion of the progra
 m the participant should be able to:\n\n1. Identify the anatomy/physio
 logy of the upper and lower extremity venous systems.\n2. Discuss Dopp
 ler/color physics and be able to (sonographers) apply these principles
  to optimize system controls or (physicians) utilize this information 
 for recognizing technical errors which may result in misdiagnosis.\n3.
  Perform routine scan protocols and document Doppler waveforms for ven
 ous evaluations of the lower extremity for DVT and venous insufficienc
 y.\n4. Recognize image characteristics of acute versus chronic DVT.\n5
 . Scan superficial vessels and perforators to rule in venous insuffici
 ency and to determine if the patient is at risk for revascularization 
 of a ligated vein.\n6. Increase the participant's knowledge to better 
 perform and/or interpret lower extremity venous evaluation for vein cl
 osure procedures.\n7. Apply the information discussed in a clinical se
 tting, under supervised conditions until an accepted level of proficie
 ncy has been achieved.\n\nCourse Topics:\n\n* Doppler fundamentals\n* 
 Venous anatomy/scan techniques and normal characteristics\n* Evaluatio
 n of venous pathology\n* Live demo: evaluation for DVT\n* Upper extrem
 ity venous evaluation\n* Saphenous vein mapping\n* Duplex/Color examin
 ation of venous insufficiency\n* Venous case studies\n* Evaluation of 
 venous insufficiency for vein therapy (webinar, see\n\nCME HOURS: 16.0
 \n\nLECTURE TOPICS:\nChest, ER, Ultrasound, Vascular\n\nFor more infor
 mation visit https://community.radrounds.com/events/intro-to-venous-im
 aging-and-4
DTSTART:20101028T040000Z
DTEND:20101030T035900Z
CATEGORIES:course
LOCATION:Gulfcoast Ultrasound Institute
WEBSITE:http://www.gcus.com
URL:http://www.gcus.com
CONTACT:(727) 363-4500
ORGANIZER:Gulfcoast Ultrasound Institute
ATTACH;FMTTYPE="image/jpeg":
ATTENDEE;ROLE=REQ-PARTICIPANT;PARTSTAT=ACCEPTED;RSVP=TRUE;CN="radRound
 s Radiology Events":https://community.radrounds.com/profile/radRoundsR
 adiologyEvents
END:VEVENT
END:VCALENDAR
