BEGIN:VCALENDAR
PRODID:NingEventWidget-v1
VERSION:2.0
METHOD:PUBLISH
BEGIN:VEVENT
UID:1791588:Event:59116
DTSTAMP:20260421T060339Z
SUMMARY:Intro to 2D/M-Mode Echocardiography and Cardiac Doppler/Color 
 Flow Imaging -- September 2010
DESCRIPTION:Intro to 2D/M-Mode Echocardiography and Cardiac Doppler/Co
 lor Flow Imaging -- September 2010\nMonday, September 20, 2010 - Frida
 y, September 24, 2010\nSt. Pete Beach, FL\n\nMEETING SPONSOR:\nGulfcoa
 st Ultrasound Institute\nGulfcoast Staff\n4615 Gulf Blvd. Suite 205\nS
 aint Pete Beach, FL 33706\nToll-Free (800) 619-1900\n(727) 363-4500\nF
 AX (727) 363-0811\nEmail: learn@gcus.com\nWebsite: http://www.gcus.com
 /ProgramDetails2.aspx?ID=349&scheduleID=341&type=PROGRAM&mode=View\n\n
 CONFERENCE CENTER:\nGulfcoast Ultrasound Institute\n4615 Gulf Blvd. Su
 ite 205\nSt. Pete Beach, FL 33706\nToll-Free (800) 619-1900\n(727) 363
 -4500\nFAX (727) 363-0811\nEmail: learn@gcus.com\nWebsite: http://www.
 gcus.com\n\nMEETING DESCRIPTION:\nProgram Name: Intro to 2D/M-Mode Ech
 ocardiography and Cardiac Doppler/Color Flow Imaging -- September 2010
 \nStart Date: 09/20/2010\nEnd Date: 09/24/2010\nAMA Cat. 1 CME Credits
 : 40.0\nOther CME Credits: 34.5 ASRT Cat. A Credits\nAdvanced Registra
 tion: $2,050.00\nRegular Registration: $2,090.00\nLocation: Gulfcoast 
 Ultrasound Institute\nAddress: 4615 Gulf Blvd., Suite 205\nSt. Pete Be
 ach, FL 33706\n\nThe Advanced Registration fee is honored if payment i
 s made/postmarked 21 days or more prior to the beginning date of the p
 rogram.\n\nIf it's 10 Days Before the Course call first for space avai
 lability.\n\nPlus, save 5% when registering two or more attendees at t
 he same time with the same form of payment to any program. The Shoppin
 g Cart will automatically discount 5% from the registration fee.\n\nNE
 W! Hands-on\n\nCME HOURS: 40.0\n\nLECTURE TOPICS:\nAngio/IR, Cardiac, 
 Chest, ER, Ultrasound\n\nFor more information visit https://community.
 radrounds.com/events/intro-to-2dmmode-2
DTSTART:20100920T040000Z
DTEND:20100925T035900Z
CATEGORIES:flow, imaging
LOCATION:Gulfcoast Ultrasound Institute
WEBSITE:http://www.gcus.com
URL:http://www.gcus.com
CONTACT:(727) 363-4500
ORGANIZER:Gulfcoast Ultrasound Institute
ATTACH;FMTTYPE="image/jpeg":
ATTENDEE;ROLE=REQ-PARTICIPANT;PARTSTAT=ACCEPTED;RSVP=TRUE;CN="radRound
 s Radiology Events":https://community.radrounds.com/profile/radRoundsR
 adiologyEvents
END:VEVENT
END:VCALENDAR
