BEGIN:VCALENDAR
PRODID:NingEventWidget-v1
VERSION:2.0
METHOD:PUBLISH
BEGIN:VEVENT
UID:1791588:Event:95943
DTSTAMP:20260421T075039Z
SUMMARY:Intro to Adult Echocardiography
DESCRIPTION:At the completion of the program the participant should be
  able to:\n\nIncrease the participant’s knowledge to better perform 
 and/or interpret Echocardiography examinations.\nDemonstrate proper tr
 ansducer manipulation and system optimization to produce diagnostic im
 ages (sonographer) and recognize potential imaging errors. (Physician)
 \nDemonstrate routine scan protocols to evaluate an adult patient usin
 g 2D/M-Mode/Color Flow & Doppler echocardiographic techniques and demo
 nstrate appropriate measurements. Identify normal/abnormal characteris
 tics of 2D cardiac anatomy and explain the role of cardiac Doppler and
  the necessary qualitative/quantitative measurements.\nIdentify the ul
 trasound findings associated with valvular heart disease, cardiomyopat
 hies, ischemic heart disease,pericardial disease and cardiac masses.\n
 List the latest imaging techniques in quantification of right and left
  ventricle wall motion. Document findings and apply standarized guidel
 ines during complilation of an Echocardiography worksheet (sonographer
 ) and dictated report (Physician).\nList the steps necessary for syste
 m optimization during contrast echo imaging.\nIncrease competence to i
 ncorporate protocols, techniques & interpretation criteria to improve 
 diagnostic/treatment accuracyCourse Topics:\n\n\nImaging fundamentals\
 nHeart anatomy/electrocardiography\n2D/M Mode characterization of card
 iac anatomy\nM-Mode and 2D measurements\nFundamentals of Doppler (Puls
 ed, CW and CFI)\nComprehensive 2D and Doppler echocardiogram\nMitral v
 alve/Aortic valve disease\nCardiomyopathies\nDoppler eval. of MVD & AV
 D\nRight heart disease\nLive demo: Comprehensive echocardiography exam
 ination\nInterpretation workshop\nCoronary heart disease\nDiastolic fu
 nction/contrast\nPericardial disease/Cardiac masses\nHands-on sessions
 \n\n\n\nFor more information visit https://community.radrounds.com/eve
 nts/intro-to-2d-m-mode-echocardiography-and-cardiac-doppler-color
DTSTART:20120423T120000Z
DTEND:20120427T210000Z
CATEGORIES:course
LOCATION:Gulfcoast Ultrasound Institute, Inc
WEBSITE:http://gcus.com/detail.asp?MediaType=Program&MediaNumber=ECD-1
 21
URL:http://gcus.com/detail.asp?MediaType=Program&MediaNumber=ECD-121
CONTACT:800-619-1900
ORGANIZER:Gulfcoast Ultrasound Institute, Inc
ATTACH;FMTTYPE="image/jpeg":http://storage.ning.com/topology/rest/1.0/
 file/get/1044731039?profile=original
ATTENDEE;ROLE=REQ-PARTICIPANT;PARTSTAT=ACCEPTED;RSVP=TRUE;CN="Casey Gr
 een":https://community.radrounds.com/profile/JamesSalame
END:VEVENT
END:VCALENDAR
