BEGIN:VCALENDAR
PRODID:NingEventWidget-v1
VERSION:2.0
METHOD:PUBLISH
BEGIN:VEVENT
UID:1791588:Event:116155
DTSTAMP:20260423T155007Z
SUMMARY:Interventional Breast Procedures
DESCRIPTION:Interventional Breast Procedures Saturday, March 31, 2012 
 - Saturday, March 31, 2012Paredes Breast Cancer Foundation Glen Allen,
  Virginia (VA), United StatesProvided by Ellen Shaw de Paredes Breast 
 Cancer Foundation  CME Provider: Ellen Shaw de Paredes Breast Cancer F
 oundation Alice Shaw4480 Cox Road Suite 100Glen Allen, Virginia (VA) 2
 3060United States\nPhone: 804-545-7654Fax: (804) 934-0098\n\nConferenc
 e Center:Paredes Breast Cancer Foundation 4480 Cox RoadSuites 100 & 10
 2Glen Allen, Virginia (VA) 23060United States\nPhone: 804-545-7654Fax:
  804-934-0098\n Description:This course provides specific training in 
 stereotactic and ultrasound guided biopsy procedures as well as MRI gu
 ided biopsy procedures. Participants will have an opportunity to perfo
 rm biopsy procedures on breast phantoms as well as to define the techn
 ique for targeting and preforming a breast MRI-guided biopsy.\nSelf As
 sessment Module (SAM): No\nInstructors:Ellen Shaw de Paredes, MDTsz Ng
 , MDMichael Kornstein, MDChristine Denison, MDHazel Woodland, RTRM\nSp
 ecialty Audience:Radiology\n\nFor more information visit https://commu
 nity.radrounds.com/events/interventional-breast-procedures
DTSTART:20120331T040000Z
DTEND:20120401T035900Z
CATEGORIES:radiology
LOCATION:Paredes Breast Cancer Foundation
WEBSITE:http://www.paredesfoundation.org/
URL:http://www.paredesfoundation.org/
CONTACT:804-545-7654
ORGANIZER:Ellen Shaw de Paredes Breast Cancer Foundation
ATTACH;FMTTYPE="image/jpeg":
ATTENDEE;ROLE=REQ-PARTICIPANT;PARTSTAT=ACCEPTED;RSVP=TRUE;CN="radRound
 s Radiology Events":https://community.radrounds.com/profile/radRoundsR
 adiologyEvents
END:VEVENT
END:VCALENDAR
