BEGIN:VCALENDAR
PRODID:NingEventWidget-v1
VERSION:2.0
METHOD:PUBLISH
BEGIN:VEVENT
UID:1791588:Event:159401
DTSTAMP:20260420T233632Z
SUMMARY:Interpretation & Reporting of Echocardiography for Primary Car
 e Physicians 2015
DESCRIPTION:The Single Greatest Step Forward in Mastery of the Subject
 \nThe greatest strengths of this course are its very small class size 
 and the vast clinical and teching experience of its instructor. Â You'
 ll quickly find yourself at home with the protocol, analysis, and verb
 iage surrounding the complex adult echo. Â Our approach will immediate
 ly break down and sweep away the mystery and myths attached to the sub
 ject nail down a solid base on which you;ll build lifelong practice. Â
  Special emphasis is placed on rapid and accurate recognition of systo
 lic and diastolic wall motion abnormalities. The physiologic impact of
  diastolic heart failure and the many ways to assess it are made perfe
 ctly clear.\nYour prior expereince or specialty is of no matter. Â We 
 will identify and respond to your special interests and needs at every
  moment. This course is focused on our interactive dialogue but Â is s
 upplemented with your independent access to our hands-on scan lab for 
 your own self-study after hours. Â A comprehensive set of printed cour
 se materials accompany the session and will serve as a lifelong refere
 oce. Â Free post-conference support extends in perpetuity.Â \nTARGET A
 UDIENCE\n\n\nFamily Practice, Internal Medicine, and Emergency Physici
 ans who wish to add a codified, targeted approach to the use of echoca
 rdiography.\n\nResident Physicians beginning their ER, FP, IM, or Radi
 ology cardiology rotation or fellowship.\n\nGraduates of accredited so
 nography programs who desire to review and/or deepen their understandi
 ng of echocardiography and clinical cardiology.\n\nSonographers who ha
 ve performed echocardiography ultrasound for any period who lack forma
 l training in the formal protocol for acquisition, measurement, and an
 alysis of data.\n\nEngineers or Research Professionals contemplating t
 he use of echocardiography as and end-point measurement tool for any c
 linical project.\n\n\n\n\nFor more information visit https://community
 .radrounds.com/events/interpretation-reporting-of-echocardiography-for
 -primary-care-3
DTSTART:20151120T140000Z
DTEND:20151121T200000Z
CATEGORIES:cardiac_ultrasound_interpretation, echocardiography_credent
 ialing, cardiac_ultrasound_reporting, echo_boards
LOCATION:The Hilton Homewood Suites Hotel in Las Colinas
WEBSITE:http://kmaultrasound.com/lodging-conference-site.html
URL:http://kmaultrasound.com/lodging-conference-site.html
CONTACT:(800) 845-3484, (972) 353-3200
ORGANIZER:Keith Mauney & Associates Ultrasound Training Institutes
ATTACH;FMTTYPE="image/jpeg":http://storage.ning.com/topology/rest/1.0/
 file/get/1044764093?profile=original
ATTENDEE;ROLE=REQ-PARTICIPANT;PARTSTAT=ACCEPTED;RSVP=TRUE;CN="Keith A.
  Mauney":https://community.radrounds.com/profile/KeithAMauney
END:VEVENT
END:VCALENDAR
