BEGIN:VCALENDAR
PRODID:NingEventWidget-v1
VERSION:2.0
METHOD:PUBLISH
BEGIN:VEVENT
UID:1791588:Event:172330
DTSTAMP:20260422T034916Z
SUMMARY:Injury or Old Age? Imaging the Spine (Live Webinar)
DESCRIPTION:Course Topics\n\nAnatomy of the Spine and Spinal Cord\nWhi
 ch Modalitiy Should We Use?\nWhy Should We Care?\nPathology Related to
  Back Pain\nDemonstrating Pathology Related to Back Pain\nImaging Guid
 ed Interventional Procedures of the Spine\n\n\nFor more information vi
 sit https://community.radrounds.com/events/injury-or-old-age-imaging-t
 he-spine-live-webinar
DTSTART:20170515T180000Z
DTEND:20170515T194500Z
CATEGORIES:live, webinar
LOCATION:Advanced Health Education Center
WEBSITE:https://store.aheconline.com/index.php?route=product/product&p
 ath=59_167&product_id=3167
URL:https://store.aheconline.com/index.php?route=product/product&path=
 59_167&product_id=3167
CONTACT:800-239-1361
ORGANIZER;CN="Larry Carney":https://community.radrounds.com/profile/La
 rryCarney
ATTACH;FMTTYPE="image/jpeg":
ATTENDEE;ROLE=REQ-PARTICIPANT;PARTSTAT=ACCEPTED;RSVP=TRUE;CN="Larry Ca
 rney":https://community.radrounds.com/profile/LarryCarney
END:VEVENT
END:VCALENDAR
