BEGIN:VCALENDAR
PRODID:NingEventWidget-v1
VERSION:2.0
METHOD:PUBLISH
BEGIN:VEVENT
UID:1791588:Event:168110
DTSTAMP:20260421T100130Z
SUMMARY:Injury or Old Age? Imaging the Spine [6:30pm CST]
DESCRIPTION:Course Topics\n\nAnatomy of the Spine and Spinal Cord\nWhi
 ch Modalitiy Should We Use?\nWhy Should We Care?\nPathology Related to
  Back Pain\nDemonstrating Pathology Related to Back Pain\nImaging Guid
 ed Interventional Procedures of the Spine\n\nStart Time Based on Time 
 Zone:\n\n7:30PM Eastern\n6:30PM Central\n5:30PM Mountain\n4:30PM Pacif
 ic\n3:30PM Alaska\n2:30PM Hawaii\n\n\nFor more information visit https
 ://community.radrounds.com/events/injury-or-old-age-imaging-the-spine-
 6-30pm-cst
DTSTART:20160623T223000Z
DTEND:20160624T001500Z
CATEGORIES:webinar
LOCATION:Houston
WEBSITE:https://store.aheconline.com/index.php?route=product/product&p
 ath=59_167&product_id=2497
URL:https://store.aheconline.com/index.php?route=product/product&path=
 59_167&product_id=2497
CONTACT:1-800-239-1361
ORGANIZER;CN="Larry Carney":https://community.radrounds.com/profile/La
 rryCarney
ATTACH;FMTTYPE="image/jpeg":
ATTENDEE;ROLE=REQ-PARTICIPANT;PARTSTAT=ACCEPTED;RSVP=TRUE;CN="Larry Ca
 rney":https://community.radrounds.com/profile/LarryCarney
END:VEVENT
END:VCALENDAR
