BEGIN:VCALENDAR
PRODID:NingEventWidget-v1
VERSION:2.0
METHOD:PUBLISH
BEGIN:VEVENT
UID:1791588:Event:116003
DTSTAMP:20260424T073411Z
SUMMARY:In Search of Image Excellence
DESCRIPTION:In Search of Image Excellence Saturday, February 25, 2012 
 - Saturday, February 25, 2012Trinity Mother Frances Hospital Tyler, Te
 xas (TX), United StatesProvided by Advanced Health Education Center  C
 ME Provider: Advanced Health Education Center 8502 Tybor DriveHouston,
  Texas (TX) 77074United States\nToll Free: (800) 239-1361Phone: (713) 
 772-0157Fax: (713) 772-0155\n\nConference Center:Trinity Mother France
 s Hospital 800 East DawsonWisenbaker Conf CenterTyler, Texas (TX) 7570
 1United States\nPhone: 903-593-8441\nDescription:The pursuit of excell
 ence is a journey and not a destination. It implies perpetual efforts 
 to advance the frontiers of knowledge. Studies have shown that to achi
 eve excellent performance in medical imaging requires knowledge and ex
 perience combined with years of practice. Jorge Casanas shares his jou
 rney with you and relates a number of the important stops on the quest
  to achieve image excellence. The program is designed for participants
  to also share their experiences and discuss the pathway to excellence
 .\nWhat is a diagnostic image?\na. Image criteria for qualityb. Evalua
 ting the imagec. Recognizing and correcting image artifactsd. Pass or 
 repeat - the ultimate quality decision\nDigital Imaging\na. Creating a
  digital imageb. Computed Radiographyc. Direct Digital Radiolographyd.
  Viewing digital images\nQuality Management Tools\na. QC/QA in medical
  imagingb. Involvement of peoplec. Process approachd. System approache
 . Continual improvementf. Factual approach to decision makingg. The ro
 le of radiation safety in image management\nEnhancing extremity images
 \na. Positioning of the upper extremityb. Positioning of the lower ext
 remityc. Orthopedics and trauma positions & techniques for extremities
 d. Using digital enhancements to produce better diagnostic images\nRad
 iation Safety and Protection for Imaging Professionals\na. A review of
  the fundamentalsb. Practice what you preachc. Public awareness and ex
 pectationsd. “Hot topics” and current events\nSelf Assessment Modu
 le (SAM): No\nInstructors:Jorge Casanas, MEd, RT(R)(CV)(QM)\nSpecialty
  Audience:Radiology\n\nFor more information visit https://community.ra
 drounds.com/events/in-search-of-image-excellence
DTSTART:20120225T050000Z
DTEND:20120226T045900Z
CATEGORIES:radiology
LOCATION:Trinity Mother Frances Hospital
WEBSITE:http://www.tmfhs.org/
URL:http://www.tmfhs.org/
CONTACT:903-593-8441
ORGANIZER:Advanced Health Education Center
ATTACH;FMTTYPE="image/jpeg":
ATTENDEE;ROLE=REQ-PARTICIPANT;PARTSTAT=ACCEPTED;RSVP=TRUE;CN="radRound
 s Radiology Events":https://community.radrounds.com/profile/radRoundsR
 adiologyEvents
END:VEVENT
END:VCALENDAR
