BEGIN:VCALENDAR
PRODID:NingEventWidget-v1
VERSION:2.0
METHOD:PUBLISH
BEGIN:VEVENT
UID:1791588:Event:123383
DTSTAMP:20260421T205259Z
SUMMARY:Improving Your NCT Imaging Skills
DESCRIPTION:Responsible imaging requires knowledge of radiation safety
  and protection skills, along with proper positioning, and an understa
 nding of the equipment.  Whether you are using film screen or digital
 , you will appreciate the update on the use of digital imaging and the
  differences in the types of equipment.  Spend the day obtaining your
  NCT continuing education requirements for Texas, and update your skil
 ls with these meaningful methods to improve care to your patients.\n\n
 For more information visit https://community.radrounds.com/events/impr
 oving-your-nct-imaging-skills
DTSTART:20120804T120000Z
DTEND:20120804T183000Z
CATEGORIES:ce, course
LOCATION:Radisson Park Inn Hotel
WEBSITE:http://store.aheconline.com/DisplayDetail.aspx?pid=7387
URL:http://store.aheconline.com/DisplayDetail.aspx?pid=7387
CONTACT:800-239-1361
ORGANIZER:Advanced Health Education Center
ATTACH;FMTTYPE="image/jpeg":
ATTENDEE;ROLE=REQ-PARTICIPANT;PARTSTAT=ACCEPTED;RSVP=TRUE;CN="Larry Ca
 rney":https://community.radrounds.com/profile/LarryCarney
END:VEVENT
END:VCALENDAR
