BEGIN:VCALENDAR
PRODID:NingEventWidget-v1
VERSION:2.0
METHOD:PUBLISH
BEGIN:VEVENT
UID:1791588:Event:123367
DTSTAMP:20260421T073347Z
SUMMARY:Improving Your Image - Mastering Digital Radiography
DESCRIPTION:This course is the “Reader’s Digest” version of digi
 tal imaging in medicine. The course provides a thorough understanding 
 of CR and DR technology, exposure techniques and an introduction into 
 working with PACS, RIS workstations and more…\n\nFor more informatio
 n visit https://community.radrounds.com/events/improving-your-image-ma
 stering-digital-radiography
DTSTART:20120719T120000Z
DTEND:20120720T201500Z
CATEGORIES:ce, course
LOCATION:Advanced Health Education Center
WEBSITE:http://store.aheconline.com/DisplayDetail.aspx?pid=7238
URL:http://store.aheconline.com/DisplayDetail.aspx?pid=7238
CONTACT:800-239-1361
ORGANIZER:Advanced Health Education Center
ATTACH;FMTTYPE="image/jpeg":
ATTENDEE;ROLE=REQ-PARTICIPANT;PARTSTAT=ACCEPTED;RSVP=TRUE;CN="Larry Ca
 rney":https://community.radrounds.com/profile/LarryCarney
END:VEVENT
END:VCALENDAR
