BEGIN:VCALENDAR
PRODID:NingEventWidget-v1
VERSION:2.0
METHOD:PUBLISH
BEGIN:VEVENT
UID:1791588:Event:190437
DTSTAMP:20260421T092408Z
SUMMARY:Improving Your CT Safety Skills: Patient Shielding (Live Webin
 ar)
DESCRIPTION:Course Topics\nProtective Devices\n\nMisconceptions About 
 Protective Devices\nAre Aprons Really Just Patient Placebo’s\nPediat
 ric Considerations\n\nCourse Objectives\nAt the conclusion of this cou
 rse, the technologist should be able to:\n\nDiscuss myths about aprons
  and the placebo effect\nDiscuss the types of filters used in back-pro
 jection\n\n\nFor more information visit https://community.radrounds.co
 m/events/improving-your-ct-safety-skills-patient-shielding-live-webina
 r-5
DTSTART:20190524T180000Z
DTEND:20190524T190000Z
CATEGORIES:live, webinar
LOCATION:Advanced Health Education Center
WEBSITE:https://store.aheconline.com/
URL:https://store.aheconline.com/
CONTACT:1 (800) 239-1361
ORGANIZER:AHEC
ATTACH;FMTTYPE="image/jpeg":
ATTENDEE;ROLE=REQ-PARTICIPANT;PARTSTAT=ACCEPTED;RSVP=TRUE;CN="Larry Ca
 rney":https://community.radrounds.com/profile/LarryCarney
END:VEVENT
END:VCALENDAR
